BEGIN:VCALENDAR
VERSION:2.0
PRODID:-//ICF MAKATI - ECPv6.15.11//NONSGML v1.0//EN
CALSCALE:GREGORIAN
METHOD:PUBLISH
X-ORIGINAL-URL:https://icfmakati.org
X-WR-CALDESC:Events for ICF MAKATI
REFRESH-INTERVAL;VALUE=DURATION:PT1H
X-Robots-Tag:noindex
X-PUBLISHED-TTL:PT1H
BEGIN:VTIMEZONE
TZID:Asia/Manila
BEGIN:STANDARD
TZOFFSETFROM:+0800
TZOFFSETTO:+0800
TZNAME:PST
DTSTART:20220101T000000
END:STANDARD
END:VTIMEZONE
BEGIN:VEVENT
DTSTART;TZID=Asia/Manila:20230917T173000
DTEND;TZID=Asia/Manila:20230917T190000
DTSTAMP:20260425T221523
CREATED:20230909T052849Z
LAST-MODIFIED:20230909T052945Z
UID:10453-1694971800-1694977200@icfmakati.org
SUMMARY:Ibadah Sore (Bahasa Indonesia)
DESCRIPTION:September 17\, 2023		\n\n					\n				 @ 			\n			\n				9:00 am			\n		\n									\n					 - 				\n			\n							\n					10:10 am				\n			\n						 \n\n\n\n\n \n\n\n\n		\n\n\n\n\n\n	\n		\n	\n\n\n\n\n	\n		\n			\n				\n					\n						\n	\n	\n\n						\n							Add to calendar						\n						\n	\n\n					\n					\n						\n															\n									\n										Google Calendar									\n								\n															\n									\n										iCalendar									\n								\n															\n									\n										Outlook 365									\n								\n															\n									\n										Outlook Live
URL:https://icfmakati.org/event/ibadah-sore-bahasa-indonesia-36/
CATEGORIES:Upcoming event
END:VEVENT
BEGIN:VEVENT
DTSTART;TZID=Asia/Manila:20230917T110000
DTEND;TZID=Asia/Manila:20230917T121000
DTSTAMP:20260425T221523
CREATED:20230909T053147Z
LAST-MODIFIED:20230909T053313Z
UID:10459-1694948400-1694952600@icfmakati.org
SUMMARY:Sunday School (Kids School)
DESCRIPTION:September 17\, 2023		\n\n					\n				 @ 			\n			\n				9:00 am			\n		\n									\n					 - 				\n			\n							\n					10:10 am				\n			\n						 \n\n\n\n\n \n\n\n\n		\n\n\n\n\n\n	\n		\n	\n\n\n\n\n	\n		\n			\n				\n					\n						\n	\n	\n\n						\n							Add to calendar						\n						\n	\n\n					\n					\n						\n															\n									\n										Google Calendar									\n								\n															\n									\n										iCalendar									\n								\n															\n									\n										Outlook 365									\n								\n															\n									\n										Outlook Live
URL:https://icfmakati.org/event/sunday-school-kids-school/
CATEGORIES:Upcoming event
END:VEVENT
BEGIN:VEVENT
DTSTART;TZID=Asia/Manila:20230917T110000
DTEND;TZID=Asia/Manila:20230917T120000
DTSTAMP:20260425T221523
CREATED:20230909T052607Z
LAST-MODIFIED:20230909T052653Z
UID:10448-1694948400-1694952000@icfmakati.org
SUMMARY:English Service
DESCRIPTION:September 17\, 2023		\n\n					\n				 @ 			\n			\n				9:00 am			\n		\n									\n					 - 				\n			\n							\n					10:10 am				\n			\n						 \n\n\n\n\n \n\n\n\n		\n\n\n\n\n\n	\n		\n	\n\n\n\n\n	\n		\n			\n				\n					\n						\n	\n	\n\n						\n							Add to calendar						\n						\n	\n\n					\n					\n						\n															\n									\n										Google Calendar									\n								\n															\n									\n										iCalendar									\n								\n															\n									\n										Outlook 365									\n								\n															\n									\n										Outlook Live
URL:https://icfmakati.org/event/english-service-36/
CATEGORIES:Upcoming event
END:VEVENT
BEGIN:VEVENT
DTSTART;TZID=Asia/Manila:20230917T090000
DTEND;TZID=Asia/Manila:20230917T101000
DTSTAMP:20260425T221523
CREATED:20230909T053106Z
LAST-MODIFIED:20230909T053415Z
UID:10458-1694941200-1694945400@icfmakati.org
SUMMARY:Sunday School (Toddler Class)
DESCRIPTION:September 17\, 2023		\n\n					\n				 @ 			\n			\n				9:00 am			\n		\n									\n					 - 				\n			\n							\n					10:10 am				\n			\n						 \n\n\n\n\n \n\n\n\n		\n\n\n\n\n\n	\n		\n	\n\n\n\n\n	\n		\n			\n				\n					\n						\n	\n	\n\n						\n							Add to calendar						\n						\n	\n\n					\n					\n						\n															\n									\n										Google Calendar									\n								\n															\n									\n										iCalendar									\n								\n															\n									\n										Outlook 365									\n								\n															\n									\n										Outlook Live
URL:https://icfmakati.org/event/sunday-school-toddler-class-30/
CATEGORIES:Upcoming event
END:VEVENT
BEGIN:VEVENT
DTSTART;TZID=Asia/Manila:20230917T090000
DTEND;TZID=Asia/Manila:20230917T101000
DTSTAMP:20260425T221523
CREATED:20230909T052337Z
LAST-MODIFIED:20230909T052439Z
UID:10443-1694941200-1694945400@icfmakati.org
SUMMARY:Ibadah Pagi (Bahasa Indonesia)
DESCRIPTION:September 17\, 2023		\n\n					\n				 @ 			\n			\n				9:00 am			\n		\n									\n					 - 				\n			\n							\n					10:10 am				\n			\n						 \n\n\n\n\n \n\n\n\n		\n\n\n\n\n\n	\n		\n	\n\n\n\n\n	\n		\n			\n				\n					\n						\n	\n	\n\n						\n							Add to calendar						\n						\n	\n\n					\n					\n						\n															\n									\n										Google Calendar									\n								\n															\n									\n										iCalendar									\n								\n															\n									\n										Outlook 365									\n								\n															\n									\n										Outlook Live
URL:https://icfmakati.org/event/ibadah-pagi-bahasa-indonesia-37/
CATEGORIES:Upcoming event
END:VEVENT
BEGIN:VEVENT
DTSTART;TZID=Asia/Manila:20230910T173000
DTEND;TZID=Asia/Manila:20230910T190000
DTSTAMP:20260425T221523
CREATED:20230909T044704Z
LAST-MODIFIED:20230909T051116Z
UID:10425-1694367000-1694372400@icfmakati.org
SUMMARY:Ibadah Sore (Bahasa Indonesia)
DESCRIPTION:September 17\, 2023		\n\n					\n				 @ 			\n			\n				9:00 am			\n		\n									\n					 - 				\n			\n							\n					10:10 am				\n			\n						 \n\n\n\n\n \n\n\n\n		\n\n\n\n\n\n	\n		\n	\n\n\n\n\n	\n		\n			\n				\n					\n						\n	\n	\n\n						\n							Add to calendar						\n						\n	\n\n					\n					\n						\n															\n									\n										Google Calendar									\n								\n															\n									\n										iCalendar									\n								\n															\n									\n										Outlook 365									\n								\n															\n									\n										Outlook Live
URL:https://icfmakati.org/event/ibadah-sore-bahasa-indonesia-35/
CATEGORIES:Upcoming event
END:VEVENT
BEGIN:VEVENT
DTSTART;TZID=Asia/Manila:20230910T110000
DTEND;TZID=Asia/Manila:20230910T121000
DTSTAMP:20260425T221523
CREATED:20230909T051205Z
LAST-MODIFIED:20230909T051253Z
UID:10438-1694343600-1694347800@icfmakati.org
SUMMARY:Sunday School (Kids Class)
DESCRIPTION:September 17\, 2023		\n\n					\n				 @ 			\n			\n				9:00 am			\n		\n									\n					 - 				\n			\n							\n					10:10 am				\n			\n						 \n\n\n\n\n \n\n\n\n		\n\n\n\n\n\n	\n		\n	\n\n\n\n\n	\n		\n			\n				\n					\n						\n	\n	\n\n						\n							Add to calendar						\n						\n	\n\n					\n					\n						\n															\n									\n										Google Calendar									\n								\n															\n									\n										iCalendar									\n								\n															\n									\n										Outlook 365									\n								\n															\n									\n										Outlook Live
URL:https://icfmakati.org/event/sunday-school-kids-class-36/
CATEGORIES:Upcoming event
END:VEVENT
BEGIN:VEVENT
DTSTART;TZID=Asia/Manila:20230910T110000
DTEND;TZID=Asia/Manila:20230910T121000
DTSTAMP:20260425T221523
CREATED:20230909T044239Z
LAST-MODIFIED:20230909T050243Z
UID:10414-1694343600-1694347800@icfmakati.org
SUMMARY:English Service
DESCRIPTION:September 17\, 2023		\n\n					\n				 @ 			\n			\n				9:00 am			\n		\n									\n					 - 				\n			\n							\n					10:10 am				\n			\n						 \n\n\n\n\n \n\n\n\n		\n\n\n\n\n\n	\n		\n	\n\n\n\n\n	\n		\n			\n				\n					\n						\n	\n	\n\n						\n							Add to calendar						\n						\n	\n\n					\n					\n						\n															\n									\n										Google Calendar									\n								\n															\n									\n										iCalendar									\n								\n															\n									\n										Outlook 365									\n								\n															\n									\n										Outlook Live
URL:https://icfmakati.org/event/english-service-35/
CATEGORIES:Upcoming event
END:VEVENT
BEGIN:VEVENT
DTSTART;TZID=Asia/Manila:20230910T090000
DTEND;TZID=Asia/Manila:20230910T101000
DTSTAMP:20260425T221523
CREATED:20230909T044952Z
LAST-MODIFIED:20230909T050053Z
UID:10431-1694336400-1694340600@icfmakati.org
SUMMARY:Sunday School (Toddler Class)
DESCRIPTION:September 17\, 2023		\n\n					\n				 @ 			\n			\n				9:00 am			\n		\n									\n					 - 				\n			\n							\n					10:10 am				\n			\n						 \n\n\n\n\n \n\n\n\n		\n\n\n\n\n\n	\n		\n	\n\n\n\n\n	\n		\n			\n				\n					\n						\n	\n	\n\n						\n							Add to calendar						\n						\n	\n\n					\n					\n						\n															\n									\n										Google Calendar									\n								\n															\n									\n										iCalendar									\n								\n															\n									\n										Outlook 365									\n								\n															\n									\n										Outlook Live
URL:https://icfmakati.org/event/sunday-school-toddler-class-29/
CATEGORIES:Upcoming event
END:VEVENT
BEGIN:VEVENT
DTSTART;TZID=Asia/Manila:20230910T090000
DTEND;TZID=Asia/Manila:20230910T101000
DTSTAMP:20260425T221523
CREATED:20230909T043822Z
LAST-MODIFIED:20230909T044149Z
UID:10413-1694336400-1694340600@icfmakati.org
SUMMARY:Ibadah Pagi (Bahasa Indonesia)
DESCRIPTION:September 17\, 2023		\n\n					\n				 @ 			\n			\n				9:00 am			\n		\n									\n					 - 				\n			\n							\n					10:10 am				\n			\n						 \n\n\n\n\n \n\n\n\n		\n\n\n\n\n\n	\n		\n	\n\n\n\n\n	\n		\n			\n				\n					\n						\n	\n	\n\n						\n							Add to calendar						\n						\n	\n\n					\n					\n						\n															\n									\n										Google Calendar									\n								\n															\n									\n										iCalendar									\n								\n															\n									\n										Outlook 365									\n								\n															\n									\n										Outlook Live
URL:https://icfmakati.org/event/ibadah-pagi-bahasa-indonesia-36/
CATEGORIES:Upcoming event
END:VEVENT
BEGIN:VEVENT
DTSTART;TZID=Asia/Manila:20230903T090000
DTEND;TZID=Asia/Manila:20230903T101000
DTSTAMP:20260425T221523
CREATED:20230830T073024Z
LAST-MODIFIED:20230830T083931Z
UID:10301-1693731600-1693735800@icfmakati.org
SUMMARY:Ibadah Pagi (Bahasa Indonesia)
DESCRIPTION:September 17\, 2023		\n\n					\n				 @ 			\n			\n				9:00 am			\n		\n									\n					 - 				\n			\n							\n					10:10 am				\n			\n						 \n\n\n\n\n \n\n\n\n		\n\n\n\n\n\n	\n		\n	\n\n\n\n\n	\n		\n			\n				\n					\n						\n	\n	\n\n						\n							Add to calendar						\n						\n	\n\n					\n					\n						\n															\n									\n										Google Calendar									\n								\n															\n									\n										iCalendar									\n								\n															\n									\n										Outlook 365									\n								\n															\n									\n										Outlook Live
URL:https://icfmakati.org/event/ibadah-pagi-bahasa-indonesia-35/
CATEGORIES:Upcoming event
END:VEVENT
BEGIN:VEVENT
DTSTART;TZID=Asia/Manila:20230828T100000
DTEND;TZID=Asia/Manila:20230828T170000
DTSTAMP:20260425T221523
CREATED:20230824T032023Z
LAST-MODIFIED:20230824T032343Z
UID:10165-1693216800-1693242000@icfmakati.org
SUMMARY:Charity Program
DESCRIPTION:September 17\, 2023		\n\n					\n				 @ 			\n			\n				9:00 am			\n		\n									\n					 - 				\n			\n							\n					10:10 am				\n			\n						 \n\n\n\n\n \n\n\n\n		\n\n\n\n\n\n	\n		\n	\n\n\n\n\n	\n		\n			\n				\n					\n						\n	\n	\n\n						\n							Add to calendar						\n						\n	\n\n					\n					\n						\n															\n									\n										Google Calendar									\n								\n															\n									\n										iCalendar									\n								\n															\n									\n										Outlook 365									\n								\n															\n									\n										Outlook Live
URL:https://icfmakati.org/event/charity-program/
CATEGORIES:Upcoming activity,Upcoming event
ATTACH;FMTTYPE=image/png:https://icfmakati.org/wp-content/uploads/2023/08/Blue-Red-Playful-Illustration-Charity-Event-Poster-Instagram-Post-Square-1600-×-500px.png
END:VEVENT
BEGIN:VEVENT
DTSTART;TZID=Asia/Manila:20230827T110000
DTEND;TZID=Asia/Manila:20230827T121000
DTSTAMP:20260425T221523
CREATED:20230728T055054Z
LAST-MODIFIED:20230728T055631Z
UID:10005-1693134000-1693138200@icfmakati.org
SUMMARY:English Service
DESCRIPTION:September 17\, 2023		\n\n					\n				 @ 			\n			\n				9:00 am			\n		\n									\n					 - 				\n			\n							\n					10:10 am				\n			\n						 \n\n\n\n\n \n\n\n\n		\n\n\n\n\n\n	\n		\n	\n\n\n\n\n	\n		\n			\n				\n					\n						\n	\n	\n\n						\n							Add to calendar						\n						\n	\n\n					\n					\n						\n															\n									\n										Google Calendar									\n								\n															\n									\n										iCalendar									\n								\n															\n									\n										Outlook 365									\n								\n															\n									\n										Outlook Live
URL:https://icfmakati.org/event/english-service-34/
CATEGORIES:Upcoming event
END:VEVENT
BEGIN:VEVENT
DTSTART;TZID=Asia/Manila:20230827T110000
DTEND;TZID=Asia/Manila:20230827T120000
DTSTAMP:20260425T221523
CREATED:20230728T055312Z
LAST-MODIFIED:20230728T055733Z
UID:10001-1693134000-1693137600@icfmakati.org
SUMMARY:Sunday School (Kids Class)
DESCRIPTION:September 17\, 2023		\n\n					\n				 @ 			\n			\n				9:00 am			\n		\n									\n					 - 				\n			\n							\n					10:10 am				\n			\n						 \n\n\n\n\n \n\n\n\n		\n\n\n\n\n\n	\n		\n	\n\n\n\n\n	\n		\n			\n				\n					\n						\n	\n	\n\n						\n							Add to calendar						\n						\n	\n\n					\n					\n						\n															\n									\n										Google Calendar									\n								\n															\n									\n										iCalendar									\n								\n															\n									\n										Outlook 365									\n								\n															\n									\n										Outlook Live
URL:https://icfmakati.org/event/sunday-school-kids-class-35/
CATEGORIES:Upcoming event
END:VEVENT
BEGIN:VEVENT
DTSTART;TZID=Asia/Manila:20230827T090000
DTEND;TZID=Asia/Manila:20230827T102000
DTSTAMP:20260425T221523
CREATED:20230728T055236Z
LAST-MODIFIED:20230728T055455Z
UID:10002-1693126800-1693131600@icfmakati.org
SUMMARY:Sunday School (Toddler Class)
DESCRIPTION:September 17\, 2023		\n\n					\n				 @ 			\n			\n				9:00 am			\n		\n									\n					 - 				\n			\n							\n					10:10 am				\n			\n						 \n\n\n\n\n \n\n\n\n		\n\n\n\n\n\n	\n		\n	\n\n\n\n\n	\n		\n			\n				\n					\n						\n	\n	\n\n						\n							Add to calendar						\n						\n	\n\n					\n					\n						\n															\n									\n										Google Calendar									\n								\n															\n									\n										iCalendar									\n								\n															\n									\n										Outlook 365									\n								\n															\n									\n										Outlook Live
URL:https://icfmakati.org/event/sunday-school-toddler-class-28/
CATEGORIES:Upcoming event
END:VEVENT
BEGIN:VEVENT
DTSTART;TZID=Asia/Manila:20230827T090000
DTEND;TZID=Asia/Manila:20230827T101000
DTSTAMP:20260425T221523
CREATED:20230728T055005Z
LAST-MODIFIED:20230728T055603Z
UID:10006-1693126800-1693131000@icfmakati.org
SUMMARY:Ibadah Pagi (Bahasa Indonesia)
DESCRIPTION:September 17\, 2023		\n\n					\n				 @ 			\n			\n				9:00 am			\n		\n									\n					 - 				\n			\n							\n					10:10 am				\n			\n						 \n\n\n\n\n \n\n\n\n		\n\n\n\n\n\n	\n		\n	\n\n\n\n\n	\n		\n			\n				\n					\n						\n	\n	\n\n						\n							Add to calendar						\n						\n	\n\n					\n					\n						\n															\n									\n										Google Calendar									\n								\n															\n									\n										iCalendar									\n								\n															\n									\n										Outlook 365									\n								\n															\n									\n										Outlook Live
URL:https://icfmakati.org/event/ibadah-pagi-bahasa-indonesia-34/
CATEGORIES:Upcoming event
END:VEVENT
BEGIN:VEVENT
DTSTART;TZID=Asia/Manila:20230827T053000
DTEND;TZID=Asia/Manila:20230827T192000
DTSTAMP:20260425T221523
CREATED:20230728T055148Z
LAST-MODIFIED:20230728T055701Z
UID:10003-1693114200-1693164000@icfmakati.org
SUMMARY:Ibadah Sore (Bahasa Indonesia)
DESCRIPTION:September 17\, 2023		\n\n					\n				 @ 			\n			\n				9:00 am			\n		\n									\n					 - 				\n			\n							\n					10:10 am				\n			\n						 \n\n\n\n\n \n\n\n\n		\n\n\n\n\n\n	\n		\n	\n\n\n\n\n	\n		\n			\n				\n					\n						\n	\n	\n\n						\n							Add to calendar						\n						\n	\n\n					\n					\n						\n															\n									\n										Google Calendar									\n								\n															\n									\n										iCalendar									\n								\n															\n									\n										Outlook 365									\n								\n															\n									\n										Outlook Live
URL:https://icfmakati.org/event/ibadah-sore-bahasa-indonesia-34/
CATEGORIES:Upcoming event
END:VEVENT
BEGIN:VEVENT
DTSTART;TZID=Asia/Manila:20230820T173000
DTEND;TZID=Asia/Manila:20230820T193000
DTSTAMP:20260425T221523
CREATED:20230728T054138Z
LAST-MODIFIED:20230728T054608Z
UID:9964-1692552600-1692559800@icfmakati.org
SUMMARY:Ibadah Sore (Bahasa Indonesia)
DESCRIPTION:September 17\, 2023		\n\n					\n				 @ 			\n			\n				9:00 am			\n		\n									\n					 - 				\n			\n							\n					10:10 am				\n			\n						 \n\n\n\n\n \n\n\n\n		\n\n\n\n\n\n	\n		\n	\n\n\n\n\n	\n		\n			\n				\n					\n						\n	\n	\n\n						\n							Add to calendar						\n						\n	\n\n					\n					\n						\n															\n									\n										Google Calendar									\n								\n															\n									\n										iCalendar									\n								\n															\n									\n										Outlook 365									\n								\n															\n									\n										Outlook Live
URL:https://icfmakati.org/event/ibadah-sore-bahasa-indonesia-31/
CATEGORIES:Upcoming event
END:VEVENT
BEGIN:VEVENT
DTSTART;TZID=Asia/Manila:20230820T110000
DTEND;TZID=Asia/Manila:20230820T122000
DTSTAMP:20260425T221523
CREATED:20230728T054100Z
LAST-MODIFIED:20230728T054412Z
UID:9961-1692529200-1692534000@icfmakati.org
SUMMARY:English Service
DESCRIPTION:September 17\, 2023		\n\n					\n				 @ 			\n			\n				9:00 am			\n		\n									\n					 - 				\n			\n							\n					10:10 am				\n			\n						 \n\n\n\n\n \n\n\n\n		\n\n\n\n\n\n	\n		\n	\n\n\n\n\n	\n		\n			\n				\n					\n						\n	\n	\n\n						\n							Add to calendar						\n						\n	\n\n					\n					\n						\n															\n									\n										Google Calendar									\n								\n															\n									\n										iCalendar									\n								\n															\n									\n										Outlook 365									\n								\n															\n									\n										Outlook Live
URL:https://icfmakati.org/event/english-service-33/
CATEGORIES:Upcoming event
END:VEVENT
BEGIN:VEVENT
DTSTART;TZID=Asia/Manila:20230820T110000
DTEND;TZID=Asia/Manila:20230820T120000
DTSTAMP:20260425T221523
CREATED:20230728T054646Z
LAST-MODIFIED:20230728T054852Z
UID:9984-1692529200-1692532800@icfmakati.org
SUMMARY:Sunday School (Kids Class)
DESCRIPTION:September 17\, 2023		\n\n					\n				 @ 			\n			\n				9:00 am			\n		\n									\n					 - 				\n			\n							\n					10:10 am				\n			\n						 \n\n\n\n\n \n\n\n\n		\n\n\n\n\n\n	\n		\n	\n\n\n\n\n	\n		\n			\n				\n					\n						\n	\n	\n\n						\n							Add to calendar						\n						\n	\n\n					\n					\n						\n															\n									\n										Google Calendar									\n								\n															\n									\n										iCalendar									\n								\n															\n									\n										Outlook 365									\n								\n															\n									\n										Outlook Live
URL:https://icfmakati.org/event/sunday-school-kids-class-34/
CATEGORIES:Upcoming event
END:VEVENT
BEGIN:VEVENT
DTSTART;TZID=Asia/Manila:20230820T090000
DTEND;TZID=Asia/Manila:20230820T101000
DTSTAMP:20260425T221523
CREATED:20230728T054558Z
LAST-MODIFIED:20230728T054719Z
UID:9985-1692522000-1692526200@icfmakati.org
SUMMARY:Sunday School (Toddler Class)
DESCRIPTION:September 17\, 2023		\n\n					\n				 @ 			\n			\n				9:00 am			\n		\n									\n					 - 				\n			\n							\n					10:10 am				\n			\n						 \n\n\n\n\n \n\n\n\n		\n\n\n\n\n\n	\n		\n	\n\n\n\n\n	\n		\n			\n				\n					\n						\n	\n	\n\n						\n							Add to calendar						\n						\n	\n\n					\n					\n						\n															\n									\n										Google Calendar									\n								\n															\n									\n										iCalendar									\n								\n															\n									\n										Outlook 365									\n								\n															\n									\n										Outlook Live
URL:https://icfmakati.org/event/sunday-school-toddler-class-26/
CATEGORIES:Upcoming event
END:VEVENT
BEGIN:VEVENT
DTSTART;TZID=Asia/Manila:20230820T090000
DTEND;TZID=Asia/Manila:20230820T101000
DTSTAMP:20260425T221523
CREATED:20230728T054011Z
LAST-MODIFIED:20230728T054311Z
UID:9967-1692522000-1692526200@icfmakati.org
SUMMARY:Ibadah Pagi (Bahasa Indonesia)
DESCRIPTION:September 17\, 2023		\n\n					\n				 @ 			\n			\n				9:00 am			\n		\n									\n					 - 				\n			\n							\n					10:10 am				\n			\n						 \n\n\n\n\n \n\n\n\n		\n\n\n\n\n\n	\n		\n	\n\n\n\n\n	\n		\n			\n				\n					\n						\n	\n	\n\n						\n							Add to calendar						\n						\n	\n\n					\n					\n						\n															\n									\n										Google Calendar									\n								\n															\n									\n										iCalendar									\n								\n															\n									\n										Outlook 365									\n								\n															\n									\n										Outlook Live
URL:https://icfmakati.org/event/ibadah-pagi-bahasa-indonesia-33/
CATEGORIES:Upcoming event
END:VEVENT
BEGIN:VEVENT
DTSTART;TZID=Asia/Manila:20230813T173000
DTEND;TZID=Asia/Manila:20230813T190000
DTSTAMP:20260425T221523
CREATED:20230727T145232Z
LAST-MODIFIED:20230728T052708Z
UID:9918-1691947800-1691953200@icfmakati.org
SUMMARY:Ibadah Sore (Bahasa Indonesia)
DESCRIPTION:September 17\, 2023		\n\n					\n				 @ 			\n			\n				9:00 am			\n		\n									\n					 - 				\n			\n							\n					10:10 am				\n			\n						 \n\n\n\n\n \n\n\n\n		\n\n\n\n\n\n	\n		\n	\n\n\n\n\n	\n		\n			\n				\n					\n						\n	\n	\n\n						\n							Add to calendar						\n						\n	\n\n					\n					\n						\n															\n									\n										Google Calendar									\n								\n															\n									\n										iCalendar									\n								\n															\n									\n										Outlook 365									\n								\n															\n									\n										Outlook Live
URL:https://icfmakati.org/event/ibadah-sore-bahasa-indonesia-32/
CATEGORIES:Upcoming event
END:VEVENT
BEGIN:VEVENT
DTSTART;TZID=Asia/Manila:20230813T110000
DTEND;TZID=Asia/Manila:20230813T120000
DTSTAMP:20260425T221523
CREATED:20230728T052803Z
LAST-MODIFIED:20230728T052937Z
UID:9950-1691924400-1691928000@icfmakati.org
SUMMARY:Sunday School (Kids Class)
DESCRIPTION:September 17\, 2023		\n\n					\n				 @ 			\n			\n				9:00 am			\n		\n									\n					 - 				\n			\n							\n					10:10 am				\n			\n						 \n\n\n\n\n \n\n\n\n		\n\n\n\n\n\n	\n		\n	\n\n\n\n\n	\n		\n			\n				\n					\n						\n	\n	\n\n						\n							Add to calendar						\n						\n	\n\n					\n					\n						\n															\n									\n										Google Calendar									\n								\n															\n									\n										iCalendar									\n								\n															\n									\n										Outlook 365									\n								\n															\n									\n										Outlook Live
URL:https://icfmakati.org/event/sunday-school-kids-class-33/
CATEGORIES:Upcoming event
END:VEVENT
BEGIN:VEVENT
DTSTART;TZID=Asia/Manila:20230813T110000
DTEND;TZID=Asia/Manila:20230813T120000
DTSTAMP:20260425T221523
CREATED:20230727T145732Z
LAST-MODIFIED:20230728T052614Z
UID:9917-1691924400-1691928000@icfmakati.org
SUMMARY:English Service
DESCRIPTION:September 17\, 2023		\n\n					\n				 @ 			\n			\n				9:00 am			\n		\n									\n					 - 				\n			\n							\n					10:10 am				\n			\n						 \n\n\n\n\n \n\n\n\n		\n\n\n\n\n\n	\n		\n	\n\n\n\n\n	\n		\n			\n				\n					\n						\n	\n	\n\n						\n							Add to calendar						\n						\n	\n\n					\n					\n						\n															\n									\n										Google Calendar									\n								\n															\n									\n										iCalendar									\n								\n															\n									\n										Outlook 365									\n								\n															\n									\n										Outlook Live
URL:https://icfmakati.org/event/english-service-32/
CATEGORIES:Upcoming event
END:VEVENT
BEGIN:VEVENT
DTSTART;TZID=Asia/Manila:20230813T090000
DTEND;TZID=Asia/Manila:20230813T101000
DTSTAMP:20260425T221523
CREATED:20230727T145305Z
LAST-MODIFIED:20230728T045812Z
UID:9919-1691917200-1691921400@icfmakati.org
SUMMARY:Sunday School (Toddler Class)
DESCRIPTION:September 17\, 2023		\n\n					\n				 @ 			\n			\n				9:00 am			\n		\n									\n					 - 				\n			\n							\n					10:10 am				\n			\n						 \n\n\n\n\n \n\n\n\n		\n\n\n\n\n\n	\n		\n	\n\n\n\n\n	\n		\n			\n				\n					\n						\n	\n	\n\n						\n							Add to calendar						\n						\n	\n\n					\n					\n						\n															\n									\n										Google Calendar									\n								\n															\n									\n										iCalendar									\n								\n															\n									\n										Outlook 365									\n								\n															\n									\n										Outlook Live
URL:https://icfmakati.org/event/sunday-school-toddler-class-27/
CATEGORIES:Upcoming event
END:VEVENT
BEGIN:VEVENT
DTSTART;TZID=Asia/Manila:20230813T090000
DTEND;TZID=Asia/Manila:20230813T101000
DTSTAMP:20260425T221523
CREATED:20230727T145127Z
LAST-MODIFIED:20230728T052822Z
UID:9916-1691917200-1691921400@icfmakati.org
SUMMARY:Ibadah Pagi (Bahasa Indonesia)
DESCRIPTION:September 17\, 2023		\n\n					\n				 @ 			\n			\n				9:00 am			\n		\n									\n					 - 				\n			\n							\n					10:10 am				\n			\n						 \n\n\n\n\n \n\n\n\n		\n\n\n\n\n\n	\n		\n	\n\n\n\n\n	\n		\n			\n				\n					\n						\n	\n	\n\n						\n							Add to calendar						\n						\n	\n\n					\n					\n						\n															\n									\n										Google Calendar									\n								\n															\n									\n										iCalendar									\n								\n															\n									\n										Outlook 365									\n								\n															\n									\n										Outlook Live
URL:https://icfmakati.org/event/ibadah-pagi-bahasa-indonesia-32/
CATEGORIES:Upcoming event
END:VEVENT
BEGIN:VEVENT
DTSTART;TZID=Asia/Manila:20230806T173000
DTEND;TZID=Asia/Manila:20230806T190000
DTSTAMP:20260425T221523
CREATED:20230728T053218Z
LAST-MODIFIED:20230728T053851Z
UID:9962-1691343000-1691348400@icfmakati.org
SUMMARY:Ibadah Sore (Bahasa Indonesia)
DESCRIPTION:September 17\, 2023		\n\n					\n				 @ 			\n			\n				9:00 am			\n		\n									\n					 - 				\n			\n							\n					10:10 am				\n			\n						 \n\n\n\n\n \n\n\n\n		\n\n\n\n\n\n	\n		\n	\n\n\n\n\n	\n		\n			\n				\n					\n						\n	\n	\n\n						\n							Add to calendar						\n						\n	\n\n					\n					\n						\n															\n									\n										Google Calendar									\n								\n															\n									\n										iCalendar									\n								\n															\n									\n										Outlook 365									\n								\n															\n									\n										Outlook Live
URL:https://icfmakati.org/event/ibadah-sore-bahasa-indonesia-33/
CATEGORIES:Upcoming event
END:VEVENT
BEGIN:VEVENT
DTSTART;TZID=Asia/Manila:20230806T110000
DTEND;TZID=Asia/Manila:20230806T120000
DTSTAMP:20260425T221523
CREATED:20230727T143539Z
LAST-MODIFIED:20230727T144603Z
UID:9894-1691319600-1691323200@icfmakati.org
SUMMARY:Sunday School (Kids Class)
DESCRIPTION:September 17\, 2023		\n\n					\n				 @ 			\n			\n				9:00 am			\n		\n									\n					 - 				\n			\n							\n					10:10 am				\n			\n						 \n\n\n\n\n \n\n\n\n		\n\n\n\n\n\n	\n		\n	\n\n\n\n\n	\n		\n			\n				\n					\n						\n	\n	\n\n						\n							Add to calendar						\n						\n	\n\n					\n					\n						\n															\n									\n										Google Calendar									\n								\n															\n									\n										iCalendar									\n								\n															\n									\n										Outlook 365									\n								\n															\n									\n										Outlook Live
URL:https://icfmakati.org/event/sunday-school-kids-class-31/
CATEGORIES:Upcoming event
END:VEVENT
BEGIN:VEVENT
DTSTART;TZID=Asia/Manila:20230806T110000
DTEND;TZID=Asia/Manila:20230806T120000
DTSTAMP:20260425T221523
CREATED:20230727T143242Z
LAST-MODIFIED:20230727T154544Z
UID:9888-1691319600-1691323200@icfmakati.org
SUMMARY:English Service
DESCRIPTION:September 17\, 2023		\n\n					\n				 @ 			\n			\n				9:00 am			\n		\n									\n					 - 				\n			\n							\n					10:10 am				\n			\n						 \n\n\n\n\n \n\n\n\n		\n\n\n\n\n\n	\n		\n	\n\n\n\n\n	\n		\n			\n				\n					\n						\n	\n	\n\n						\n							Add to calendar						\n						\n	\n\n					\n					\n						\n															\n									\n										Google Calendar									\n								\n															\n									\n										iCalendar									\n								\n															\n									\n										Outlook 365									\n								\n															\n									\n										Outlook Live
URL:https://icfmakati.org/event/english-service-31/
CATEGORIES:Upcoming event
END:VEVENT
END:VCALENDAR