BEGIN:VCALENDAR
VERSION:2.0
PRODID:-//ICF MAKATI - ECPv6.15.11//NONSGML v1.0//EN
CALSCALE:GREGORIAN
METHOD:PUBLISH
X-ORIGINAL-URL:https://icfmakati.org
X-WR-CALDESC:Events for ICF MAKATI
REFRESH-INTERVAL;VALUE=DURATION:PT1H
X-Robots-Tag:noindex
X-PUBLISHED-TTL:PT1H
BEGIN:VTIMEZONE
TZID:Asia/Manila
BEGIN:STANDARD
TZOFFSETFROM:+0800
TZOFFSETTO:+0800
TZNAME:PST
DTSTART:20220101T000000
END:STANDARD
END:VTIMEZONE
BEGIN:VEVENT
DTSTART;TZID=Asia/Manila:20230820T090000
DTEND;TZID=Asia/Manila:20230820T101000
DTSTAMP:20260426T011049
CREATED:20230728T054558Z
LAST-MODIFIED:20230728T054719Z
UID:9985-1692522000-1692526200@icfmakati.org
SUMMARY:Sunday School (Toddler Class)
DESCRIPTION:
URL:https://icfmakati.org/event/sunday-school-toddler-class-26/
CATEGORIES:Upcoming event
END:VEVENT
BEGIN:VEVENT
DTSTART;TZID=Asia/Manila:20230820T090000
DTEND;TZID=Asia/Manila:20230820T101000
DTSTAMP:20260426T011049
CREATED:20230728T054011Z
LAST-MODIFIED:20230728T054311Z
UID:9967-1692522000-1692526200@icfmakati.org
SUMMARY:Ibadah Pagi (Bahasa Indonesia)
DESCRIPTION:
URL:https://icfmakati.org/event/ibadah-pagi-bahasa-indonesia-33/
CATEGORIES:Upcoming event
END:VEVENT
BEGIN:VEVENT
DTSTART;TZID=Asia/Manila:20230813T173000
DTEND;TZID=Asia/Manila:20230813T190000
DTSTAMP:20260426T011049
CREATED:20230727T145232Z
LAST-MODIFIED:20230728T052708Z
UID:9918-1691947800-1691953200@icfmakati.org
SUMMARY:Ibadah Sore (Bahasa Indonesia)
DESCRIPTION:
URL:https://icfmakati.org/event/ibadah-sore-bahasa-indonesia-32/
CATEGORIES:Upcoming event
END:VEVENT
BEGIN:VEVENT
DTSTART;TZID=Asia/Manila:20230813T110000
DTEND;TZID=Asia/Manila:20230813T120000
DTSTAMP:20260426T011049
CREATED:20230728T052803Z
LAST-MODIFIED:20230728T052937Z
UID:9950-1691924400-1691928000@icfmakati.org
SUMMARY:Sunday School (Kids Class)
DESCRIPTION:
URL:https://icfmakati.org/event/sunday-school-kids-class-33/
CATEGORIES:Upcoming event
END:VEVENT
BEGIN:VEVENT
DTSTART;TZID=Asia/Manila:20230813T110000
DTEND;TZID=Asia/Manila:20230813T120000
DTSTAMP:20260426T011049
CREATED:20230727T145732Z
LAST-MODIFIED:20230728T052614Z
UID:9917-1691924400-1691928000@icfmakati.org
SUMMARY:English Service
DESCRIPTION:
URL:https://icfmakati.org/event/english-service-32/
CATEGORIES:Upcoming event
END:VEVENT
BEGIN:VEVENT
DTSTART;TZID=Asia/Manila:20230813T090000
DTEND;TZID=Asia/Manila:20230813T101000
DTSTAMP:20260426T011049
CREATED:20230727T145305Z
LAST-MODIFIED:20230728T045812Z
UID:9919-1691917200-1691921400@icfmakati.org
SUMMARY:Sunday School (Toddler Class)
DESCRIPTION:
URL:https://icfmakati.org/event/sunday-school-toddler-class-27/
CATEGORIES:Upcoming event
END:VEVENT
BEGIN:VEVENT
DTSTART;TZID=Asia/Manila:20230813T090000
DTEND;TZID=Asia/Manila:20230813T101000
DTSTAMP:20260426T011049
CREATED:20230727T145127Z
LAST-MODIFIED:20230728T052822Z
UID:9916-1691917200-1691921400@icfmakati.org
SUMMARY:Ibadah Pagi (Bahasa Indonesia)
DESCRIPTION:
URL:https://icfmakati.org/event/ibadah-pagi-bahasa-indonesia-32/
CATEGORIES:Upcoming event
END:VEVENT
BEGIN:VEVENT
DTSTART;TZID=Asia/Manila:20230806T173000
DTEND;TZID=Asia/Manila:20230806T190000
DTSTAMP:20260426T011049
CREATED:20230728T053218Z
LAST-MODIFIED:20230728T053851Z
UID:9962-1691343000-1691348400@icfmakati.org
SUMMARY:Ibadah Sore (Bahasa Indonesia)
DESCRIPTION:
URL:https://icfmakati.org/event/ibadah-sore-bahasa-indonesia-33/
CATEGORIES:Upcoming event
END:VEVENT
BEGIN:VEVENT
DTSTART;TZID=Asia/Manila:20230806T110000
DTEND;TZID=Asia/Manila:20230806T120000
DTSTAMP:20260426T011049
CREATED:20230727T143539Z
LAST-MODIFIED:20230727T144603Z
UID:9894-1691319600-1691323200@icfmakati.org
SUMMARY:Sunday School (Kids Class)
DESCRIPTION:
URL:https://icfmakati.org/event/sunday-school-kids-class-31/
CATEGORIES:Upcoming event
END:VEVENT
BEGIN:VEVENT
DTSTART;TZID=Asia/Manila:20230806T110000
DTEND;TZID=Asia/Manila:20230806T120000
DTSTAMP:20260426T011049
CREATED:20230727T143242Z
LAST-MODIFIED:20230727T154544Z
UID:9888-1691319600-1691323200@icfmakati.org
SUMMARY:English Service
DESCRIPTION:
URL:https://icfmakati.org/event/english-service-31/
CATEGORIES:Upcoming event
END:VEVENT
BEGIN:VEVENT
DTSTART;TZID=Asia/Manila:20230806T090000
DTEND;TZID=Asia/Manila:20230806T101000
DTSTAMP:20260426T011049
CREATED:20230727T145759Z
LAST-MODIFIED:20230728T053247Z
UID:9920-1691312400-1691316600@icfmakati.org
SUMMARY:Sunday School (ToddlerClass)
DESCRIPTION:
URL:https://icfmakati.org/event/sunday-school-kids-class-32/
CATEGORIES:Upcoming event
END:VEVENT
BEGIN:VEVENT
DTSTART;TZID=Asia/Manila:20230806T090000
DTEND;TZID=Asia/Manila:20230806T101000
DTSTAMP:20260426T011049
CREATED:20230727T143223Z
LAST-MODIFIED:20230727T143905Z
UID:9889-1691312400-1691316600@icfmakati.org
SUMMARY:Ibadah Pagi (Bahasa Indonesia)
DESCRIPTION:
URL:https://icfmakati.org/event/ibadah-pagi-bahasa-indonesia-31/
CATEGORIES:Upcoming event
END:VEVENT
BEGIN:VEVENT
DTSTART;TZID=Asia/Manila:20230730T173000
DTEND;TZID=Asia/Manila:20230730T190000
DTSTAMP:20260426T011049
CREATED:20230727T134823Z
LAST-MODIFIED:20230727T142924Z
UID:9844-1690738200-1690743600@icfmakati.org
SUMMARY:Ibadah Sore (Bahasa Indonesia)
DESCRIPTION:
URL:https://icfmakati.org/event/ibadah-sore-bahasa-indonesia-30/
CATEGORIES:Upcoming event
END:VEVENT
BEGIN:VEVENT
DTSTART;TZID=Asia/Manila:20230730T110000
DTEND;TZID=Asia/Manila:20230730T120000
DTSTAMP:20260426T011049
CREATED:20230727T135952Z
LAST-MODIFIED:20230727T143027Z
UID:9852-1690714800-1690718400@icfmakati.org
SUMMARY:Sunday School (Kids Class)
DESCRIPTION:
URL:https://icfmakati.org/event/sunday-school-kids-class-30/
CATEGORIES:Upcoming event
END:VEVENT
BEGIN:VEVENT
DTSTART;TZID=Asia/Manila:20230730T110000
DTEND;TZID=Asia/Manila:20230730T120000
DTSTAMP:20260426T011049
CREATED:20230727T134523Z
LAST-MODIFIED:20230727T135512Z
UID:9845-1690714800-1690718400@icfmakati.org
SUMMARY:English Service
DESCRIPTION:
URL:https://icfmakati.org/event/english-service-30/
CATEGORIES:Upcoming event
END:VEVENT
BEGIN:VEVENT
DTSTART;TZID=Asia/Manila:20230730T090000
DTEND;TZID=Asia/Manila:20230730T102000
DTSTAMP:20260426T011049
CREATED:20230727T134205Z
LAST-MODIFIED:20230727T134809Z
UID:9842-1690707600-1690712400@icfmakati.org
SUMMARY:Ibadah Pagi (Bahasa Indonesia)
DESCRIPTION:
URL:https://icfmakati.org/event/ibadah-pagi-bahasa-indonesia-30/
CATEGORIES:Upcoming event
END:VEVENT
BEGIN:VEVENT
DTSTART;TZID=Asia/Manila:20230730T090000
DTEND;TZID=Asia/Manila:20230730T101000
DTSTAMP:20260426T011049
CREATED:20230727T135919Z
LAST-MODIFIED:20230727T143209Z
UID:9853-1690707600-1690711800@icfmakati.org
SUMMARY:Sunday School (Toddler Class)
DESCRIPTION:
URL:https://icfmakati.org/event/sunday-school-toddler-class-25/
CATEGORIES:Upcoming event
END:VEVENT
BEGIN:VEVENT
DTSTART;TZID=Asia/Manila:20230723T173000
DTEND;TZID=Asia/Manila:20230723T193000
DTSTAMP:20260426T011049
CREATED:20230720T142727Z
LAST-MODIFIED:20230720T143035Z
UID:9785-1690133400-1690140600@icfmakati.org
SUMMARY:Ibadah Sore (Bahasa Indonesia)
DESCRIPTION:
URL:https://icfmakati.org/event/ibadah-sore-bahasa-indonesia-29/
CATEGORIES:Upcoming event
END:VEVENT
BEGIN:VEVENT
DTSTART;TZID=Asia/Manila:20230723T110000
DTEND;TZID=Asia/Manila:20230723T120000
DTSTAMP:20260426T011049
CREATED:20230720T143204Z
LAST-MODIFIED:20230720T143330Z
UID:9805-1690110000-1690113600@icfmakati.org
SUMMARY:Sunday School (Kids Class)
DESCRIPTION:
URL:https://icfmakati.org/event/sunday-school-kids-class-29/
CATEGORIES:Upcoming event
END:VEVENT
BEGIN:VEVENT
DTSTART;TZID=Asia/Manila:20230723T110000
DTEND;TZID=Asia/Manila:20230723T120000
DTSTAMP:20260426T011049
CREATED:20230720T142631Z
LAST-MODIFIED:20230720T142941Z
UID:9786-1690110000-1690113600@icfmakati.org
SUMMARY:English Service
DESCRIPTION:
URL:https://icfmakati.org/event/english-service-29/
CATEGORIES:Upcoming event
END:VEVENT
BEGIN:VEVENT
DTSTART;TZID=Asia/Manila:20230723T090000
DTEND;TZID=Asia/Manila:20230723T102000
DTSTAMP:20260426T011049
CREATED:20230720T143145Z
LAST-MODIFIED:20230720T143247Z
UID:9804-1690102800-1690107600@icfmakati.org
SUMMARY:Sunday School (Toddler Class)
DESCRIPTION:
URL:https://icfmakati.org/event/sunday-school-toddler-class-24/
CATEGORIES:Upcoming event
END:VEVENT
BEGIN:VEVENT
DTSTART;TZID=Asia/Manila:20230723T090000
DTEND;TZID=Asia/Manila:20230723T102000
DTSTAMP:20260426T011049
CREATED:20230720T142601Z
LAST-MODIFIED:20230720T142657Z
UID:9787-1690102800-1690107600@icfmakati.org
SUMMARY:Ibadah Pagi (Bahasa Indonesia)
DESCRIPTION:
URL:https://icfmakati.org/event/ibadah-pagi-bahasa-indonesia-29/
CATEGORIES:Upcoming event
END:VEVENT
BEGIN:VEVENT
DTSTART;TZID=Asia/Manila:20230716T173000
DTEND;TZID=Asia/Manila:20230716T193000
DTSTAMP:20260426T011049
CREATED:20230720T141644Z
LAST-MODIFIED:20230720T141841Z
UID:9757-1689528600-1689535800@icfmakati.org
SUMMARY:Ibadah Sore (Bahasa Indonesia)
DESCRIPTION:
URL:https://icfmakati.org/event/ibadah-sore-bahasa-indonesia-28/
CATEGORIES:Upcoming event
END:VEVENT
BEGIN:VEVENT
DTSTART;TZID=Asia/Manila:20230716T110000
DTEND;TZID=Asia/Manila:20230716T120000
DTSTAMP:20260426T011049
CREATED:20230720T142113Z
LAST-MODIFIED:20230720T142248Z
UID:9773-1689505200-1689508800@icfmakati.org
SUMMARY:Sunday School (Kids Class)
DESCRIPTION:
URL:https://icfmakati.org/event/sunday-school-kids-class-28/
CATEGORIES:Upcoming event
END:VEVENT
BEGIN:VEVENT
DTSTART;TZID=Asia/Manila:20230716T110000
DTEND;TZID=Asia/Manila:20230716T120000
DTSTAMP:20260426T011049
CREATED:20230720T141608Z
LAST-MODIFIED:20230720T141821Z
UID:9758-1689505200-1689508800@icfmakati.org
SUMMARY:English Service
DESCRIPTION:
URL:https://icfmakati.org/event/english-service-28/
CATEGORIES:Upcoming event
END:VEVENT
BEGIN:VEVENT
DTSTART;TZID=Asia/Manila:20230716T090000
DTEND;TZID=Asia/Manila:20230716T102000
DTSTAMP:20260426T011049
CREATED:20230720T141418Z
LAST-MODIFIED:20230720T141548Z
UID:9755-1689498000-1689502800@icfmakati.org
SUMMARY:Ibadah Pagi (Bahasa Indonesia)
DESCRIPTION:
URL:https://icfmakati.org/event/ibadah-pagi-bahasa-indonesia-28/
CATEGORIES:Upcoming event
END:VEVENT
BEGIN:VEVENT
DTSTART;TZID=Asia/Manila:20230716T090000
DTEND;TZID=Asia/Manila:20230716T101000
DTSTAMP:20260426T011049
CREATED:20230720T142053Z
LAST-MODIFIED:20230720T142226Z
UID:9772-1689498000-1689502200@icfmakati.org
SUMMARY:Sunday School (Toddler Class)
DESCRIPTION:
URL:https://icfmakati.org/event/sunday-school-toddler-class-23/
CATEGORIES:Upcoming event
END:VEVENT
BEGIN:VEVENT
DTSTART;TZID=Asia/Manila:20230709T173000
DTEND;TZID=Asia/Manila:20230709T193000
DTSTAMP:20260426T011049
CREATED:20230713T045552Z
LAST-MODIFIED:20230713T045605Z
UID:9722-1688923800-1688931000@icfmakati.org
SUMMARY:Ibadah Sore (Bahasa Indonesia)
DESCRIPTION:
URL:https://icfmakati.org/event/ibadah-sore-bahasa-indonesia-27/
END:VEVENT
BEGIN:VEVENT
DTSTART;TZID=Asia/Manila:20230709T110000
DTEND;TZID=Asia/Manila:20230709T120000
DTSTAMP:20260426T011049
CREATED:20230713T045000Z
LAST-MODIFIED:20230713T045008Z
UID:9715-1688900400-1688904000@icfmakati.org
SUMMARY:English Service
DESCRIPTION:
URL:https://icfmakati.org/event/english-service-27/
CATEGORIES:Upcoming event
END:VEVENT
BEGIN:VEVENT
DTSTART;TZID=Asia/Manila:20230709T090000
DTEND;TZID=Asia/Manila:20230709T102000
DTSTAMP:20260426T011049
CREATED:20230713T044714Z
LAST-MODIFIED:20230713T044829Z
UID:9713-1688893200-1688898000@icfmakati.org
SUMMARY:Ibadah Pagi (Bahasa Indonesia)
DESCRIPTION:
URL:https://icfmakati.org/event/ibadah-pagi-bahasa-indonesia-27/
CATEGORIES:Upcoming event
END:VEVENT
END:VCALENDAR