BEGIN:VCALENDAR
VERSION:2.0
PRODID:-//ICF MAKATI - ECPv6.15.11//NONSGML v1.0//EN
CALSCALE:GREGORIAN
METHOD:PUBLISH
X-ORIGINAL-URL:https://icfmakati.org
X-WR-CALDESC:Events for ICF MAKATI
REFRESH-INTERVAL;VALUE=DURATION:PT1H
X-Robots-Tag:noindex
X-PUBLISHED-TTL:PT1H
BEGIN:VTIMEZONE
TZID:Asia/Manila
BEGIN:STANDARD
TZOFFSETFROM:+0800
TZOFFSETTO:+0800
TZNAME:PST
DTSTART:20230101T000000
END:STANDARD
END:VTIMEZONE
BEGIN:VEVENT
DTSTART;TZID=Asia/Manila:20240811T110000
DTEND;TZID=Asia/Manila:20240811T122000
DTSTAMP:20260425T065749
CREATED:20240808T083343Z
LAST-MODIFIED:20240808T083756Z
UID:13382-1723374000-1723378800@icfmakati.org
SUMMARY:English Service
DESCRIPTION:August 11\, 2024		\n\n					\n				 @ 			\n			\n				7:00 pm			\n		\n									\n					 - 				\n			\n							\n					8:30 pm				\n			\n						 \n\n\n\n\n \n\n\n\n		\n\n\n\n\n\n	\n		\n	\n\n\n\n\n	\n		\n			\n				\n					\n						\n	\n	\n\n						\n							Add to calendar						\n						\n	\n\n					\n					\n						\n															\n									\n										Google Calendar									\n								\n															\n									\n										iCalendar									\n								\n															\n									\n										Outlook 365									\n								\n															\n									\n										Outlook Live
URL:https://icfmakati.org/event/english-service-55/
CATEGORIES:Upcoming event
END:VEVENT
BEGIN:VEVENT
DTSTART;TZID=Asia/Manila:20240811T090000
DTEND;TZID=Asia/Manila:20240811T102000
DTSTAMP:20260425T065749
CREATED:20240808T091744Z
LAST-MODIFIED:20240808T091914Z
UID:13392-1723366800-1723371600@icfmakati.org
SUMMARY:Sunday School (Toddler Class)
DESCRIPTION:August 11\, 2024		\n\n					\n				 @ 			\n			\n				7:00 pm			\n		\n									\n					 - 				\n			\n							\n					8:30 pm				\n			\n						 \n\n\n\n\n \n\n\n\n		\n\n\n\n\n\n	\n		\n	\n\n\n\n\n	\n		\n			\n				\n					\n						\n	\n	\n\n						\n							Add to calendar						\n						\n	\n\n					\n					\n						\n															\n									\n										Google Calendar									\n								\n															\n									\n										iCalendar									\n								\n															\n									\n										Outlook 365									\n								\n															\n									\n										Outlook Live
URL:https://icfmakati.org/event/sunday-school-toddler-class-46/
CATEGORIES:Upcoming event
END:VEVENT
BEGIN:VEVENT
DTSTART;TZID=Asia/Manila:20240811T090000
DTEND;TZID=Asia/Manila:20240811T101000
DTSTAMP:20260425T065749
CREATED:20240808T082048Z
LAST-MODIFIED:20240808T082246Z
UID:13377-1723366800-1723371000@icfmakati.org
SUMMARY:Ibadah Pagi (Bahasa Indonesia)
DESCRIPTION:August 11\, 2024		\n\n					\n				 @ 			\n			\n				7:00 pm			\n		\n									\n					 - 				\n			\n							\n					8:30 pm				\n			\n						 \n\n\n\n\n \n\n\n\n		\n\n\n\n\n\n	\n		\n	\n\n\n\n\n	\n		\n			\n				\n					\n						\n	\n	\n\n						\n							Add to calendar						\n						\n	\n\n					\n					\n						\n															\n									\n										Google Calendar									\n								\n															\n									\n										iCalendar									\n								\n															\n									\n										Outlook 365									\n								\n															\n									\n										Outlook Live
URL:https://icfmakati.org/event/ibadah-pagi-bahasa-indonesia-58/
CATEGORIES:Upcoming event
END:VEVENT
BEGIN:VEVENT
DTSTART;TZID=Asia/Manila:20240804T190000
DTEND;TZID=Asia/Manila:20240804T203000
DTSTAMP:20260425T065749
CREATED:20240801T103117Z
LAST-MODIFIED:20240801T103344Z
UID:13344-1722798000-1722803400@icfmakati.org
SUMMARY:Ibadah Malam (Bahasa Indonesia)
DESCRIPTION:August 11\, 2024		\n\n					\n				 @ 			\n			\n				7:00 pm			\n		\n									\n					 - 				\n			\n							\n					8:30 pm				\n			\n						 \n\n\n\n\n \n\n\n\n		\n\n\n\n\n\n	\n		\n	\n\n\n\n\n	\n		\n			\n				\n					\n						\n	\n	\n\n						\n							Add to calendar						\n						\n	\n\n					\n					\n						\n															\n									\n										Google Calendar									\n								\n															\n									\n										iCalendar									\n								\n															\n									\n										Outlook 365									\n								\n															\n									\n										Outlook Live
URL:https://icfmakati.org/event/ibadah-malam-bahasa-indonesia-13/
END:VEVENT
BEGIN:VEVENT
DTSTART;TZID=Asia/Manila:20240804T110000
DTEND;TZID=Asia/Manila:20240804T122000
DTSTAMP:20260425T065749
CREATED:20240801T101504Z
LAST-MODIFIED:20240801T102705Z
UID:13335-1722769200-1722774000@icfmakati.org
SUMMARY:English Service
DESCRIPTION:August 11\, 2024		\n\n					\n				 @ 			\n			\n				7:00 pm			\n		\n									\n					 - 				\n			\n							\n					8:30 pm				\n			\n						 \n\n\n\n\n \n\n\n\n		\n\n\n\n\n\n	\n		\n	\n\n\n\n\n	\n		\n			\n				\n					\n						\n	\n	\n\n						\n							Add to calendar						\n						\n	\n\n					\n					\n						\n															\n									\n										Google Calendar									\n								\n															\n									\n										iCalendar									\n								\n															\n									\n										Outlook 365									\n								\n															\n									\n										Outlook Live
URL:https://icfmakati.org/event/english-service-54/
CATEGORIES:Upcoming event
END:VEVENT
BEGIN:VEVENT
DTSTART;TZID=Asia/Manila:20240804T090000
DTEND;TZID=Asia/Manila:20240804T102000
DTSTAMP:20260425T065749
CREATED:20240801T100533Z
LAST-MODIFIED:20240801T103253Z
UID:13333-1722762000-1722766800@icfmakati.org
SUMMARY:Ibadah Pagi (Bahasa Indonesia)
DESCRIPTION:August 11\, 2024		\n\n					\n				 @ 			\n			\n				7:00 pm			\n		\n									\n					 - 				\n			\n							\n					8:30 pm				\n			\n						 \n\n\n\n\n \n\n\n\n		\n\n\n\n\n\n	\n		\n	\n\n\n\n\n	\n		\n			\n				\n					\n						\n	\n	\n\n						\n							Add to calendar						\n						\n	\n\n					\n					\n						\n															\n									\n										Google Calendar									\n								\n															\n									\n										iCalendar									\n								\n															\n									\n										Outlook 365									\n								\n															\n									\n										Outlook Live
URL:https://icfmakati.org/event/ibadah-pagi-bahasa-indonesia-57/
CATEGORIES:Upcoming event
END:VEVENT
BEGIN:VEVENT
DTSTART;TZID=Asia/Manila:20240728T190000
DTEND;TZID=Asia/Manila:20240728T203000
DTSTAMP:20260425T065749
CREATED:20240712T092700Z
LAST-MODIFIED:20240712T093653Z
UID:13253-1722193200-1722198600@icfmakati.org
SUMMARY:Ibadah Malam (Bahasa Indonesia)
DESCRIPTION:August 11\, 2024		\n\n					\n				 @ 			\n			\n				7:00 pm			\n		\n									\n					 - 				\n			\n							\n					8:30 pm				\n			\n						 \n\n\n\n\n \n\n\n\n		\n\n\n\n\n\n	\n		\n	\n\n\n\n\n	\n		\n			\n				\n					\n						\n	\n	\n\n						\n							Add to calendar						\n						\n	\n\n					\n					\n						\n															\n									\n										Google Calendar									\n								\n															\n									\n										iCalendar									\n								\n															\n									\n										Outlook 365									\n								\n															\n									\n										Outlook Live
URL:https://icfmakati.org/event/ibadah-malam-bahasa-indonesia-12/
CATEGORIES:Upcoming event
END:VEVENT
BEGIN:VEVENT
DTSTART;TZID=Asia/Manila:20240728T110000
DTEND;TZID=Asia/Manila:20240728T122000
DTSTAMP:20260425T065749
CREATED:20240712T094636Z
LAST-MODIFIED:20240712T094803Z
UID:13264-1722164400-1722169200@icfmakati.org
SUMMARY:Sunday School (Kids Class)
DESCRIPTION:August 11\, 2024		\n\n					\n				 @ 			\n			\n				7:00 pm			\n		\n									\n					 - 				\n			\n							\n					8:30 pm				\n			\n						 \n\n\n\n\n \n\n\n\n		\n\n\n\n\n\n	\n		\n	\n\n\n\n\n	\n		\n			\n				\n					\n						\n	\n	\n\n						\n							Add to calendar						\n						\n	\n\n					\n					\n						\n															\n									\n										Google Calendar									\n								\n															\n									\n										iCalendar									\n								\n															\n									\n										Outlook 365									\n								\n															\n									\n										Outlook Live
URL:https://icfmakati.org/event/sunday-school-kids-class-49/
CATEGORIES:Upcoming event
END:VEVENT
BEGIN:VEVENT
DTSTART;TZID=Asia/Manila:20240728T110000
DTEND;TZID=Asia/Manila:20240728T122000
DTSTAMP:20260425T065749
CREATED:20240712T092322Z
LAST-MODIFIED:20240712T092923Z
UID:13248-1722164400-1722169200@icfmakati.org
SUMMARY:English Service
DESCRIPTION:August 11\, 2024		\n\n					\n				 @ 			\n			\n				7:00 pm			\n		\n									\n					 - 				\n			\n							\n					8:30 pm				\n			\n						 \n\n\n\n\n \n\n\n\n		\n\n\n\n\n\n	\n		\n	\n\n\n\n\n	\n		\n			\n				\n					\n						\n	\n	\n\n						\n							Add to calendar						\n						\n	\n\n					\n					\n						\n															\n									\n										Google Calendar									\n								\n															\n									\n										iCalendar									\n								\n															\n									\n										Outlook 365									\n								\n															\n									\n										Outlook Live
URL:https://icfmakati.org/event/english-service-53/
CATEGORIES:Upcoming event
END:VEVENT
BEGIN:VEVENT
DTSTART;TZID=Asia/Manila:20240728T090000
DTEND;TZID=Asia/Manila:20240728T101000
DTSTAMP:20260425T065749
CREATED:20240712T093634Z
LAST-MODIFIED:20240712T094510Z
UID:13259-1722157200-1722161400@icfmakati.org
SUMMARY:Sunday School (Toddler Class)
DESCRIPTION:August 11\, 2024		\n\n					\n				 @ 			\n			\n				7:00 pm			\n		\n									\n					 - 				\n			\n							\n					8:30 pm				\n			\n						 \n\n\n\n\n \n\n\n\n		\n\n\n\n\n\n	\n		\n	\n\n\n\n\n	\n		\n			\n				\n					\n						\n	\n	\n\n						\n							Add to calendar						\n						\n	\n\n					\n					\n						\n															\n									\n										Google Calendar									\n								\n															\n									\n										iCalendar									\n								\n															\n									\n										Outlook 365									\n								\n															\n									\n										Outlook Live
URL:https://icfmakati.org/event/sunday-school-toddler-class-44/
CATEGORIES:Upcoming event
END:VEVENT
BEGIN:VEVENT
DTSTART;TZID=Asia/Manila:20240728T090000
DTEND;TZID=Asia/Manila:20240728T101000
DTSTAMP:20260425T065749
CREATED:20240712T092015Z
LAST-MODIFIED:20240712T092308Z
UID:13246-1722157200-1722161400@icfmakati.org
SUMMARY:Ibadah Pagi (Bahasa Indonesia)
DESCRIPTION:August 11\, 2024		\n\n					\n				 @ 			\n			\n				7:00 pm			\n		\n									\n					 - 				\n			\n							\n					8:30 pm				\n			\n						 \n\n\n\n\n \n\n\n\n		\n\n\n\n\n\n	\n		\n	\n\n\n\n\n	\n		\n			\n				\n					\n						\n	\n	\n\n						\n							Add to calendar						\n						\n	\n\n					\n					\n						\n															\n									\n										Google Calendar									\n								\n															\n									\n										iCalendar									\n								\n															\n									\n										Outlook 365									\n								\n															\n									\n										Outlook Live
URL:https://icfmakati.org/event/ibadah-pagi-bahasa-indonesia-56/
CATEGORIES:Upcoming event
END:VEVENT
BEGIN:VEVENT
DTSTART;TZID=Asia/Manila:20240721T190000
DTEND;TZID=Asia/Manila:20240721T203000
DTSTAMP:20260425T065749
CREATED:20240712T085835Z
LAST-MODIFIED:20240712T090748Z
UID:13228-1721588400-1721593800@icfmakati.org
SUMMARY:Ibadah Malam (Bahasa Indonesia)
DESCRIPTION:August 11\, 2024		\n\n					\n				 @ 			\n			\n				7:00 pm			\n		\n									\n					 - 				\n			\n							\n					8:30 pm				\n			\n						 \n\n\n\n\n \n\n\n\n		\n\n\n\n\n\n	\n		\n	\n\n\n\n\n	\n		\n			\n				\n					\n						\n	\n	\n\n						\n							Add to calendar						\n						\n	\n\n					\n					\n						\n															\n									\n										Google Calendar									\n								\n															\n									\n										iCalendar									\n								\n															\n									\n										Outlook 365									\n								\n															\n									\n										Outlook Live
URL:https://icfmakati.org/event/ibadah-malam-bahasa-indonesia-11/
CATEGORIES:Upcoming event
END:VEVENT
BEGIN:VEVENT
DTSTART;TZID=Asia/Manila:20240721T110000
DTEND;TZID=Asia/Manila:20240721T122000
DTSTAMP:20260425T065749
CREATED:20240712T090849Z
LAST-MODIFIED:20240712T091059Z
UID:13241-1721559600-1721564400@icfmakati.org
SUMMARY:Sunday School (Kids Class)
DESCRIPTION:August 11\, 2024		\n\n					\n				 @ 			\n			\n				7:00 pm			\n		\n									\n					 - 				\n			\n							\n					8:30 pm				\n			\n						 \n\n\n\n\n \n\n\n\n		\n\n\n\n\n\n	\n		\n	\n\n\n\n\n	\n		\n			\n				\n					\n						\n	\n	\n\n						\n							Add to calendar						\n						\n	\n\n					\n					\n						\n															\n									\n										Google Calendar									\n								\n															\n									\n										iCalendar									\n								\n															\n									\n										Outlook 365									\n								\n															\n									\n										Outlook Live
URL:https://icfmakati.org/event/sunday-school-kids-class-48/
CATEGORIES:Upcoming event
END:VEVENT
BEGIN:VEVENT
DTSTART;TZID=Asia/Manila:20240721T110000
DTEND;TZID=Asia/Manila:20240721T122000
DTSTAMP:20260425T065749
CREATED:20240712T085001Z
LAST-MODIFIED:20240712T085544Z
UID:13223-1721559600-1721564400@icfmakati.org
SUMMARY:English Service
DESCRIPTION:August 11\, 2024		\n\n					\n				 @ 			\n			\n				7:00 pm			\n		\n									\n					 - 				\n			\n							\n					8:30 pm				\n			\n						 \n\n\n\n\n \n\n\n\n		\n\n\n\n\n\n	\n		\n	\n\n\n\n\n	\n		\n			\n				\n					\n						\n	\n	\n\n						\n							Add to calendar						\n						\n	\n\n					\n					\n						\n															\n									\n										Google Calendar									\n								\n															\n									\n										iCalendar									\n								\n															\n									\n										Outlook 365									\n								\n															\n									\n										Outlook Live
URL:https://icfmakati.org/event/english-service-52/
CATEGORIES:Upcoming event
END:VEVENT
BEGIN:VEVENT
DTSTART;TZID=Asia/Manila:20240721T090000
DTEND;TZID=Asia/Manila:20240721T221000
DTSTAMP:20260425T065749
CREATED:20240712T090204Z
LAST-MODIFIED:20240712T090721Z
UID:13231-1721552400-1721599800@icfmakati.org
SUMMARY:Sunday School (Toddler Class)
DESCRIPTION:August 11\, 2024		\n\n					\n				 @ 			\n			\n				7:00 pm			\n		\n									\n					 - 				\n			\n							\n					8:30 pm				\n			\n						 \n\n\n\n\n \n\n\n\n		\n\n\n\n\n\n	\n		\n	\n\n\n\n\n	\n		\n			\n				\n					\n						\n	\n	\n\n						\n							Add to calendar						\n						\n	\n\n					\n					\n						\n															\n									\n										Google Calendar									\n								\n															\n									\n										iCalendar									\n								\n															\n									\n										Outlook 365									\n								\n															\n									\n										Outlook Live
URL:https://icfmakati.org/event/sunday-school-toddler-class-43/
CATEGORIES:Upcoming event
END:VEVENT
BEGIN:VEVENT
DTSTART;TZID=Asia/Manila:20240721T090000
DTEND;TZID=Asia/Manila:20240721T102000
DTSTAMP:20260425T065749
CREATED:20240712T084059Z
LAST-MODIFIED:20240712T084752Z
UID:13217-1721552400-1721557200@icfmakati.org
SUMMARY:Ibadah Pagi (Bahasa Indonesia)
DESCRIPTION:August 11\, 2024		\n\n					\n				 @ 			\n			\n				7:00 pm			\n		\n									\n					 - 				\n			\n							\n					8:30 pm				\n			\n						 \n\n\n\n\n \n\n\n\n		\n\n\n\n\n\n	\n		\n	\n\n\n\n\n	\n		\n			\n				\n					\n						\n	\n	\n\n						\n							Add to calendar						\n						\n	\n\n					\n					\n						\n															\n									\n										Google Calendar									\n								\n															\n									\n										iCalendar									\n								\n															\n									\n										Outlook 365									\n								\n															\n									\n										Outlook Live
URL:https://icfmakati.org/event/ibadah-pagi-bahasa-indonesia-55/
CATEGORIES:Upcoming event
END:VEVENT
BEGIN:VEVENT
DTSTART;TZID=Asia/Manila:20240714T190000
DTEND;TZID=Asia/Manila:20240714T203000
DTSTAMP:20260425T065749
CREATED:20240710T190616Z
LAST-MODIFIED:20240710T190723Z
UID:13177-1720983600-1720989000@icfmakati.org
SUMMARY:Ibadah Malam (Bahasa Indonesia)
DESCRIPTION:August 11\, 2024		\n\n					\n				 @ 			\n			\n				7:00 pm			\n		\n									\n					 - 				\n			\n							\n					8:30 pm				\n			\n						 \n\n\n\n\n \n\n\n\n		\n\n\n\n\n\n	\n		\n	\n\n\n\n\n	\n		\n			\n				\n					\n						\n	\n	\n\n						\n							Add to calendar						\n						\n	\n\n					\n					\n						\n															\n									\n										Google Calendar									\n								\n															\n									\n										iCalendar									\n								\n															\n									\n										Outlook 365									\n								\n															\n									\n										Outlook Live
URL:https://icfmakati.org/event/ibadah-malam-bahasa-indonesia-10/
CATEGORIES:Upcoming event
END:VEVENT
BEGIN:VEVENT
DTSTART;TZID=Asia/Manila:20240714T110000
DTEND;TZID=Asia/Manila:20240714T122000
DTSTAMP:20260425T065749
CREATED:20240710T190849Z
LAST-MODIFIED:20240710T190956Z
UID:13193-1720954800-1720959600@icfmakati.org
SUMMARY:Sunday School (Kids Class)
DESCRIPTION:August 11\, 2024		\n\n					\n				 @ 			\n			\n				7:00 pm			\n		\n									\n					 - 				\n			\n							\n					8:30 pm				\n			\n						 \n\n\n\n\n \n\n\n\n		\n\n\n\n\n\n	\n		\n	\n\n\n\n\n	\n		\n			\n				\n					\n						\n	\n	\n\n						\n							Add to calendar						\n						\n	\n\n					\n					\n						\n															\n									\n										Google Calendar									\n								\n															\n									\n										iCalendar									\n								\n															\n									\n										Outlook 365									\n								\n															\n									\n										Outlook Live
URL:https://icfmakati.org/event/sunday-school-kids-class-47/
CATEGORIES:Upcoming event
END:VEVENT
BEGIN:VEVENT
DTSTART;TZID=Asia/Manila:20240714T110000
DTEND;TZID=Asia/Manila:20240714T122000
DTSTAMP:20260425T065749
CREATED:20240710T190503Z
LAST-MODIFIED:20240710T190605Z
UID:13178-1720954800-1720959600@icfmakati.org
SUMMARY:English Service
DESCRIPTION:August 11\, 2024		\n\n					\n				 @ 			\n			\n				7:00 pm			\n		\n									\n					 - 				\n			\n							\n					8:30 pm				\n			\n						 \n\n\n\n\n \n\n\n\n		\n\n\n\n\n\n	\n		\n	\n\n\n\n\n	\n		\n			\n				\n					\n						\n	\n	\n\n						\n							Add to calendar						\n						\n	\n\n					\n					\n						\n															\n									\n										Google Calendar									\n								\n															\n									\n										iCalendar									\n								\n															\n									\n										Outlook 365									\n								\n															\n									\n										Outlook Live
URL:https://icfmakati.org/event/english-service-51/
CATEGORIES:Upcoming event
END:VEVENT
BEGIN:VEVENT
DTSTART;TZID=Asia/Manila:20240714T090000
DTEND;TZID=Asia/Manila:20240714T102000
DTSTAMP:20260425T065749
CREATED:20240710T190423Z
LAST-MODIFIED:20240710T190546Z
UID:13176-1720947600-1720952400@icfmakati.org
SUMMARY:Ibadah Pagi (Bahasa Indonesia)
DESCRIPTION:August 11\, 2024		\n\n					\n				 @ 			\n			\n				7:00 pm			\n		\n									\n					 - 				\n			\n							\n					8:30 pm				\n			\n						 \n\n\n\n\n \n\n\n\n		\n\n\n\n\n\n	\n		\n	\n\n\n\n\n	\n		\n			\n				\n					\n						\n	\n	\n\n						\n							Add to calendar						\n						\n	\n\n					\n					\n						\n															\n									\n										Google Calendar									\n								\n															\n									\n										iCalendar									\n								\n															\n									\n										Outlook 365									\n								\n															\n									\n										Outlook Live
URL:https://icfmakati.org/event/ibadah-pagi-bahasa-indonesia-54/
CATEGORIES:Upcoming event
END:VEVENT
BEGIN:VEVENT
DTSTART;TZID=Asia/Manila:20240714T090000
DTEND;TZID=Asia/Manila:20240714T101000
DTSTAMP:20260425T065749
CREATED:20240710T190733Z
LAST-MODIFIED:20240710T190843Z
UID:13188-1720947600-1720951800@icfmakati.org
SUMMARY:Sunday School (Toddler Class)
DESCRIPTION:August 11\, 2024		\n\n					\n				 @ 			\n			\n				7:00 pm			\n		\n									\n					 - 				\n			\n							\n					8:30 pm				\n			\n						 \n\n\n\n\n \n\n\n\n		\n\n\n\n\n\n	\n		\n	\n\n\n\n\n	\n		\n			\n				\n					\n						\n	\n	\n\n						\n							Add to calendar						\n						\n	\n\n					\n					\n						\n															\n									\n										Google Calendar									\n								\n															\n									\n										iCalendar									\n								\n															\n									\n										Outlook 365									\n								\n															\n									\n										Outlook Live
URL:https://icfmakati.org/event/sunday-school-toddler-class-42/
CATEGORIES:Upcoming event
END:VEVENT
BEGIN:VEVENT
DTSTART;TZID=Asia/Manila:20240711T190000
DTEND;TZID=Asia/Manila:20240711T203000
DTSTAMP:20260425T065749
CREATED:20240615T040845Z
LAST-MODIFIED:20240615T041045Z
UID:13106-1720724400-1720729800@icfmakati.org
SUMMARY:Christian Ethics Classes
DESCRIPTION:August 11\, 2024		\n\n					\n				 @ 			\n			\n				7:00 pm			\n		\n									\n					 - 				\n			\n							\n					8:30 pm				\n			\n						 \n\n\n\n\n \n\n\n\n		\n\n\n\n\n\n	\n		\n	\n\n\n\n\n	\n		\n			\n				\n					\n						\n	\n	\n\n						\n							Add to calendar						\n						\n	\n\n					\n					\n						\n															\n									\n										Google Calendar									\n								\n															\n									\n										iCalendar									\n								\n															\n									\n										Outlook 365									\n								\n															\n									\n										Outlook Live
URL:https://icfmakati.org/event/christian-ethics-classes-4/
CATEGORIES:Upcoming activity,Upcoming event
ATTACH;FMTTYPE=image/png:https://icfmakati.org/wp-content/uploads/2024/06/Christian-Ethics-Classes-4000-x-3000-px-1.png
END:VEVENT
BEGIN:VEVENT
DTSTART;TZID=Asia/Manila:20240710T190000
DTEND;TZID=Asia/Manila:20240710T203000
DTSTAMP:20260425T065749
CREATED:20240615T040705Z
LAST-MODIFIED:20240615T040827Z
UID:13100-1720638000-1720643400@icfmakati.org
SUMMARY:Christian Ethics Classes
DESCRIPTION:August 11\, 2024		\n\n					\n				 @ 			\n			\n				7:00 pm			\n		\n									\n					 - 				\n			\n							\n					8:30 pm				\n			\n						 \n\n\n\n\n \n\n\n\n		\n\n\n\n\n\n	\n		\n	\n\n\n\n\n	\n		\n			\n				\n					\n						\n	\n	\n\n						\n							Add to calendar						\n						\n	\n\n					\n					\n						\n															\n									\n										Google Calendar									\n								\n															\n									\n										iCalendar									\n								\n															\n									\n										Outlook 365									\n								\n															\n									\n										Outlook Live
URL:https://icfmakati.org/event/christian-ethics-classes-3/
CATEGORIES:Upcoming activity,Upcoming event
ATTACH;FMTTYPE=image/png:https://icfmakati.org/wp-content/uploads/2024/06/Christian-Ethics-Classes-4000-x-3000-px-1.png
END:VEVENT
BEGIN:VEVENT
DTSTART;TZID=Asia/Manila:20240709T190000
DTEND;TZID=Asia/Manila:20240709T203000
DTSTAMP:20260425T065749
CREATED:20240615T040640Z
LAST-MODIFIED:20240615T040807Z
UID:13099-1720551600-1720557000@icfmakati.org
SUMMARY:Christian Ethics Classes
DESCRIPTION:August 11\, 2024		\n\n					\n				 @ 			\n			\n				7:00 pm			\n		\n									\n					 - 				\n			\n							\n					8:30 pm				\n			\n						 \n\n\n\n\n \n\n\n\n		\n\n\n\n\n\n	\n		\n	\n\n\n\n\n	\n		\n			\n				\n					\n						\n	\n	\n\n						\n							Add to calendar						\n						\n	\n\n					\n					\n						\n															\n									\n										Google Calendar									\n								\n															\n									\n										iCalendar									\n								\n															\n									\n										Outlook 365									\n								\n															\n									\n										Outlook Live
URL:https://icfmakati.org/event/christian-ethics-classes-2/
CATEGORIES:Upcoming activity,Upcoming event
ATTACH;FMTTYPE=image/png:https://icfmakati.org/wp-content/uploads/2024/06/Christian-Ethics-Classes-4000-x-3000-px-1.png
END:VEVENT
BEGIN:VEVENT
DTSTART;TZID=Asia/Manila:20240708T190000
DTEND;TZID=Asia/Manila:20240708T203000
DTSTAMP:20260425T065749
CREATED:20240615T040516Z
LAST-MODIFIED:20240615T040725Z
UID:13095-1720465200-1720470600@icfmakati.org
SUMMARY:Christian Ethics Classes
DESCRIPTION:August 11\, 2024		\n\n					\n				 @ 			\n			\n				7:00 pm			\n		\n									\n					 - 				\n			\n							\n					8:30 pm				\n			\n						 \n\n\n\n\n \n\n\n\n		\n\n\n\n\n\n	\n		\n	\n\n\n\n\n	\n		\n			\n				\n					\n						\n	\n	\n\n						\n							Add to calendar						\n						\n	\n\n					\n					\n						\n															\n									\n										Google Calendar									\n								\n															\n									\n										iCalendar									\n								\n															\n									\n										Outlook 365									\n								\n															\n									\n										Outlook Live
URL:https://icfmakati.org/event/christian-ethics-classes/
CATEGORIES:Upcoming activity,Upcoming event
ATTACH;FMTTYPE=image/png:https://icfmakati.org/wp-content/uploads/2024/06/Christian-Ethics-Classes-4000-x-3000-px-1.png
END:VEVENT
BEGIN:VEVENT
DTSTART;TZID=Asia/Manila:20240630T190000
DTEND;TZID=Asia/Manila:20240630T203000
DTSTAMP:20260425T065749
CREATED:20240612T160806Z
LAST-MODIFIED:20240612T160906Z
UID:13055-1719774000-1719779400@icfmakati.org
SUMMARY:Ibadah Malam (Bahasa Indonesia)
DESCRIPTION:August 11\, 2024		\n\n					\n				 @ 			\n			\n				7:00 pm			\n		\n									\n					 - 				\n			\n							\n					8:30 pm				\n			\n						 \n\n\n\n\n \n\n\n\n		\n\n\n\n\n\n	\n		\n	\n\n\n\n\n	\n		\n			\n				\n					\n						\n	\n	\n\n						\n							Add to calendar						\n						\n	\n\n					\n					\n						\n															\n									\n										Google Calendar									\n								\n															\n									\n										iCalendar									\n								\n															\n									\n										Outlook 365									\n								\n															\n									\n										Outlook Live
URL:https://icfmakati.org/event/ibadah-malam-bahasa-indonesia-9/
CATEGORIES:Upcoming event
ATTACH;FMTTYPE=image/png:https://icfmakati.org/wp-content/uploads/2024/06/Gods-Justice-At-Work-4000-x-3000-px.png
END:VEVENT
BEGIN:VEVENT
DTSTART;TZID=Asia/Manila:20240630T110000
DTEND;TZID=Asia/Manila:20240630T122000
DTSTAMP:20260425T065749
CREATED:20240612T161043Z
LAST-MODIFIED:20240612T161147Z
UID:13075-1719745200-1719750000@icfmakati.org
SUMMARY:Sunday School (Kids Class)
DESCRIPTION:August 11\, 2024		\n\n					\n				 @ 			\n			\n				7:00 pm			\n		\n									\n					 - 				\n			\n							\n					8:30 pm				\n			\n						 \n\n\n\n\n \n\n\n\n		\n\n\n\n\n\n	\n		\n	\n\n\n\n\n	\n		\n			\n				\n					\n						\n	\n	\n\n						\n							Add to calendar						\n						\n	\n\n					\n					\n						\n															\n									\n										Google Calendar									\n								\n															\n									\n										iCalendar									\n								\n															\n									\n										Outlook 365									\n								\n															\n									\n										Outlook Live
URL:https://icfmakati.org/event/sunday-school-kids-class-46/
CATEGORIES:Upcoming event
ATTACH;FMTTYPE=image/png:https://icfmakati.org/wp-content/uploads/2024/06/Gods-Justice-At-Work-4000-x-3000-px.png
END:VEVENT
BEGIN:VEVENT
DTSTART;TZID=Asia/Manila:20240630T110000
DTEND;TZID=Asia/Manila:20240630T122000
DTSTAMP:20260425T065749
CREATED:20240612T160713Z
LAST-MODIFIED:20240612T160850Z
UID:13054-1719745200-1719750000@icfmakati.org
SUMMARY:English Service
DESCRIPTION:August 11\, 2024		\n\n					\n				 @ 			\n			\n				7:00 pm			\n		\n									\n					 - 				\n			\n							\n					8:30 pm				\n			\n						 \n\n\n\n\n \n\n\n\n		\n\n\n\n\n\n	\n		\n	\n\n\n\n\n	\n		\n			\n				\n					\n						\n	\n	\n\n						\n							Add to calendar						\n						\n	\n\n					\n					\n						\n															\n									\n										Google Calendar									\n								\n															\n									\n										iCalendar									\n								\n															\n									\n										Outlook 365									\n								\n															\n									\n										Outlook Live
URL:https://icfmakati.org/event/english-service-50/
CATEGORIES:Upcoming event
ATTACH;FMTTYPE=image/png:https://icfmakati.org/wp-content/uploads/2024/06/Swarming-Darkness-4000-x-3000-px.png
END:VEVENT
BEGIN:VEVENT
DTSTART;TZID=Asia/Manila:20240630T090000
DTEND;TZID=Asia/Manila:20240630T102000
DTSTAMP:20260425T065749
CREATED:20240612T160948Z
LAST-MODIFIED:20240612T161133Z
UID:13074-1719738000-1719742800@icfmakati.org
SUMMARY:Sunday School (Toddler Class)
DESCRIPTION:August 11\, 2024		\n\n					\n				 @ 			\n			\n				7:00 pm			\n		\n									\n					 - 				\n			\n							\n					8:30 pm				\n			\n						 \n\n\n\n\n \n\n\n\n		\n\n\n\n\n\n	\n		\n	\n\n\n\n\n	\n		\n			\n				\n					\n						\n	\n	\n\n						\n							Add to calendar						\n						\n	\n\n					\n					\n						\n															\n									\n										Google Calendar									\n								\n															\n									\n										iCalendar									\n								\n															\n									\n										Outlook 365									\n								\n															\n									\n										Outlook Live
URL:https://icfmakati.org/event/sunday-school-toddler-class-41/
CATEGORIES:Upcoming event
ATTACH;FMTTYPE=image/png:https://icfmakati.org/wp-content/uploads/2024/06/Gods-Justice-At-Work-4000-x-3000-px.png
END:VEVENT
BEGIN:VEVENT
DTSTART;TZID=Asia/Manila:20240630T090000
DTEND;TZID=Asia/Manila:20240630T102000
DTSTAMP:20260425T065749
CREATED:20240612T160643Z
LAST-MODIFIED:20240612T160830Z
UID:13056-1719738000-1719742800@icfmakati.org
SUMMARY:Ibadah Pagi (Bahasa Indonesia)
DESCRIPTION:August 11\, 2024		\n\n					\n				 @ 			\n			\n				7:00 pm			\n		\n									\n					 - 				\n			\n							\n					8:30 pm				\n			\n						 \n\n\n\n\n \n\n\n\n		\n\n\n\n\n\n	\n		\n	\n\n\n\n\n	\n		\n			\n				\n					\n						\n	\n	\n\n						\n							Add to calendar						\n						\n	\n\n					\n					\n						\n															\n									\n										Google Calendar									\n								\n															\n									\n										iCalendar									\n								\n															\n									\n										Outlook 365									\n								\n															\n									\n										Outlook Live
URL:https://icfmakati.org/event/ibadah-pagi-bahasa-indonesia-53/
CATEGORIES:Upcoming event
ATTACH;FMTTYPE=image/png:https://icfmakati.org/wp-content/uploads/2024/06/Gods-Justice-At-Work-4000-x-3000-px.png
END:VEVENT
END:VCALENDAR