BEGIN:VCALENDAR
VERSION:2.0
PRODID:-//ICF MAKATI - ECPv6.15.11//NONSGML v1.0//EN
CALSCALE:GREGORIAN
METHOD:PUBLISH
X-ORIGINAL-URL:https://icfmakati.org
X-WR-CALDESC:Events for ICF MAKATI
REFRESH-INTERVAL;VALUE=DURATION:PT1H
X-Robots-Tag:noindex
X-PUBLISHED-TTL:PT1H
BEGIN:VTIMEZONE
TZID:Asia/Manila
BEGIN:STANDARD
TZOFFSETFROM:+0800
TZOFFSETTO:+0800
TZNAME:PST
DTSTART:20220101T000000
END:STANDARD
END:VTIMEZONE
BEGIN:VEVENT
DTSTART;TZID=Asia/Manila:20230521T110000
DTEND;TZID=Asia/Manila:20230521T120000
DTSTAMP:20260426T080707
CREATED:20230506T052306Z
LAST-MODIFIED:20230506T052515Z
UID:9065-1684666800-1684670400@icfmakati.org
SUMMARY:Sunday School (Kids Class)
DESCRIPTION:May 21\, 2023		\n\n					\n				 @ 			\n			\n				5:30 am			\n		\n			 \n\n\n\n\n \n\n\n\n		\n\n\n\n\n\n	\n		\n	\n\n\n\n\n	\n		\n			\n				\n					\n						\n	\n	\n\n						\n							Add to calendar						\n						\n	\n\n					\n					\n						\n															\n									\n										Google Calendar									\n								\n															\n									\n										iCalendar									\n								\n															\n									\n										Outlook 365									\n								\n															\n									\n										Outlook Live
URL:https://icfmakati.org/event/sunday-school-kids-class-24/
CATEGORIES:Upcoming event
ATTACH;FMTTYPE=image/png:https://icfmakati.org/wp-content/uploads/2023/05/Tetelestai.png
END:VEVENT
BEGIN:VEVENT
DTSTART;TZID=Asia/Manila:20230521T090000
DTEND;TZID=Asia/Manila:20230521T100000
DTSTAMP:20260426T080708
CREATED:20230506T052417Z
LAST-MODIFIED:20230506T052630Z
UID:9066-1684659600-1684663200@icfmakati.org
SUMMARY:Ibadah Pagi (Bahasa Indonesia)
DESCRIPTION:May 21\, 2023		\n\n					\n				 @ 			\n			\n				5:30 am			\n		\n			 \n\n\n\n\n \n\n\n\n		\n\n\n\n\n\n	\n		\n	\n\n\n\n\n	\n		\n			\n				\n					\n						\n	\n	\n\n						\n							Add to calendar						\n						\n	\n\n					\n					\n						\n															\n									\n										Google Calendar									\n								\n															\n									\n										iCalendar									\n								\n															\n									\n										Outlook 365									\n								\n															\n									\n										Outlook Live
URL:https://icfmakati.org/event/ibadah-pagi-bahasa-indonesia-23/
CATEGORIES:Upcoming event
ATTACH;FMTTYPE=image/png:https://icfmakati.org/wp-content/uploads/2023/05/Tetelestai.png
END:VEVENT
BEGIN:VEVENT
DTSTART;TZID=Asia/Manila:20230521T090000
DTEND;TZID=Asia/Manila:20230521T100000
DTSTAMP:20260426T080708
CREATED:20230506T052329Z
LAST-MODIFIED:20230506T052456Z
UID:9064-1684659600-1684663200@icfmakati.org
SUMMARY:Sunday School (Toddler Class)
DESCRIPTION:May 21\, 2023		\n\n					\n				 @ 			\n			\n				5:30 am			\n		\n			 \n\n\n\n\n \n\n\n\n		\n\n\n\n\n\n	\n		\n	\n\n\n\n\n	\n		\n			\n				\n					\n						\n	\n	\n\n						\n							Add to calendar						\n						\n	\n\n					\n					\n						\n															\n									\n										Google Calendar									\n								\n															\n									\n										iCalendar									\n								\n															\n									\n										Outlook 365									\n								\n															\n									\n										Outlook Live
URL:https://icfmakati.org/event/sunday-school-toddler-class-19/
CATEGORIES:Upcoming event
ATTACH;FMTTYPE=image/png:https://icfmakati.org/wp-content/uploads/2023/05/Tetelestai.png
END:VEVENT
BEGIN:VEVENT
DTSTART;TZID=Asia/Manila:20230521T053000
DTEND;TZID=Asia/Manila:20230521T053000
DTSTAMP:20260426T080708
CREATED:20230506T052731Z
LAST-MODIFIED:20230506T052902Z
UID:9077-1684647000-1684647000@icfmakati.org
SUMMARY:Ibadah Sore (Bahasa Indonesia)
DESCRIPTION:May 21\, 2023		\n\n					\n				 @ 			\n			\n				5:30 am			\n		\n			 \n\n\n\n\n \n\n\n\n		\n\n\n\n\n\n	\n		\n	\n\n\n\n\n	\n		\n			\n				\n					\n						\n	\n	\n\n						\n							Add to calendar						\n						\n	\n\n					\n					\n						\n															\n									\n										Google Calendar									\n								\n															\n									\n										iCalendar									\n								\n															\n									\n										Outlook 365									\n								\n															\n									\n										Outlook Live
URL:https://icfmakati.org/event/ibadah-sore-bahasa-indonesia-23/
CATEGORIES:Upcoming event
ATTACH;FMTTYPE=image/png:https://icfmakati.org/wp-content/uploads/2023/05/Tetelestai.png
END:VEVENT
BEGIN:VEVENT
DTSTART;TZID=Asia/Manila:20230519T193000
DTEND;TZID=Asia/Manila:20230527T203000
DTSTAMP:20260426T080708
CREATED:20230511T085347Z
LAST-MODIFIED:20230511T090337Z
UID:9143-1684524600-1685219400@icfmakati.org
SUMMARY:Doa Pencurahan Roh Kudus
DESCRIPTION:May 21\, 2023		\n\n					\n				 @ 			\n			\n				5:30 am			\n		\n			 \n\n\n\n\n \n\n\n\n		\n\n\n\n\n\n	\n		\n	\n\n\n\n\n	\n		\n			\n				\n					\n						\n	\n	\n\n						\n							Add to calendar						\n						\n	\n\n					\n					\n						\n															\n									\n										Google Calendar									\n								\n															\n									\n										iCalendar									\n								\n															\n									\n										Outlook 365									\n								\n															\n									\n										Outlook Live
URL:https://icfmakati.org/event/doa-pencurahan-roh-kudus/
CATEGORIES:Upcoming activity,Upcoming event
ATTACH;FMTTYPE=image/png:https://icfmakati.org/wp-content/uploads/2023/05/Doa-Pencurahan-Roh-Kudus-1.png
END:VEVENT
BEGIN:VEVENT
DTSTART;TZID=Asia/Manila:20230514T173000
DTEND;TZID=Asia/Manila:20230514T183000
DTSTAMP:20260426T080708
CREATED:20230506T051547Z
LAST-MODIFIED:20230506T051738Z
UID:9041-1684085400-1684089000@icfmakati.org
SUMMARY:Ibadah Sore (Bahasa Indonesia)
DESCRIPTION:May 21\, 2023		\n\n					\n				 @ 			\n			\n				5:30 am			\n		\n			 \n\n\n\n\n \n\n\n\n		\n\n\n\n\n\n	\n		\n	\n\n\n\n\n	\n		\n			\n				\n					\n						\n	\n	\n\n						\n							Add to calendar						\n						\n	\n\n					\n					\n						\n															\n									\n										Google Calendar									\n								\n															\n									\n										iCalendar									\n								\n															\n									\n										Outlook 365									\n								\n															\n									\n										Outlook Live
URL:https://icfmakati.org/event/ibadah-sore-bahasa-indonesia-22/
CATEGORIES:Upcoming event
ATTACH;FMTTYPE=image/png:https://icfmakati.org/wp-content/uploads/2023/05/Aku-haus.png
END:VEVENT
BEGIN:VEVENT
DTSTART;TZID=Asia/Manila:20230514T110000
DTEND;TZID=Asia/Manila:20230514T120000
DTSTAMP:20260426T080708
CREATED:20230506T051917Z
LAST-MODIFIED:20230506T052056Z
UID:9055-1684062000-1684065600@icfmakati.org
SUMMARY:Sunday School (Kids Class)
DESCRIPTION:May 21\, 2023		\n\n					\n				 @ 			\n			\n				5:30 am			\n		\n			 \n\n\n\n\n \n\n\n\n		\n\n\n\n\n\n	\n		\n	\n\n\n\n\n	\n		\n			\n				\n					\n						\n	\n	\n\n						\n							Add to calendar						\n						\n	\n\n					\n					\n						\n															\n									\n										Google Calendar									\n								\n															\n									\n										iCalendar									\n								\n															\n									\n										Outlook 365									\n								\n															\n									\n										Outlook Live
URL:https://icfmakati.org/event/sunday-school-kids-class-23/
CATEGORIES:Upcoming event
ATTACH;FMTTYPE=image/png:https://icfmakati.org/wp-content/uploads/2023/05/Aku-haus.png
END:VEVENT
BEGIN:VEVENT
DTSTART;TZID=Asia/Manila:20230514T110000
DTEND;TZID=Asia/Manila:20230514T120000
DTSTAMP:20260426T080708
CREATED:20230506T051511Z
LAST-MODIFIED:20230506T051716Z
UID:9040-1684062000-1684065600@icfmakati.org
SUMMARY:English Service
DESCRIPTION:May 21\, 2023		\n\n					\n				 @ 			\n			\n				5:30 am			\n		\n			 \n\n\n\n\n \n\n\n\n		\n\n\n\n\n\n	\n		\n	\n\n\n\n\n	\n		\n			\n				\n					\n						\n	\n	\n\n						\n							Add to calendar						\n						\n	\n\n					\n					\n						\n															\n									\n										Google Calendar									\n								\n															\n									\n										iCalendar									\n								\n															\n									\n										Outlook 365									\n								\n															\n									\n										Outlook Live
URL:https://icfmakati.org/event/english-service-22/
CATEGORIES:Upcoming event
ATTACH;FMTTYPE=image/png:https://icfmakati.org/wp-content/uploads/2023/05/Aku-haus.png
END:VEVENT
BEGIN:VEVENT
DTSTART;TZID=Asia/Manila:20230514T090000
DTEND;TZID=Asia/Manila:20230514T100000
DTSTAMP:20260426T080708
CREATED:20230506T051844Z
LAST-MODIFIED:20230506T052037Z
UID:9054-1684054800-1684058400@icfmakati.org
SUMMARY:Sunday School (Toddler Class)
DESCRIPTION:May 21\, 2023		\n\n					\n				 @ 			\n			\n				5:30 am			\n		\n			 \n\n\n\n\n \n\n\n\n		\n\n\n\n\n\n	\n		\n	\n\n\n\n\n	\n		\n			\n				\n					\n						\n	\n	\n\n						\n							Add to calendar						\n						\n	\n\n					\n					\n						\n															\n									\n										Google Calendar									\n								\n															\n									\n										iCalendar									\n								\n															\n									\n										Outlook 365									\n								\n															\n									\n										Outlook Live
URL:https://icfmakati.org/event/sunday-school-toddler-class-18/
CATEGORIES:Upcoming event
ATTACH;FMTTYPE=image/png:https://icfmakati.org/wp-content/uploads/2023/05/Aku-haus.png
END:VEVENT
BEGIN:VEVENT
DTSTART;TZID=Asia/Manila:20230514T090000
DTEND;TZID=Asia/Manila:20230514T100000
DTSTAMP:20260426T080708
CREATED:20230506T051446Z
LAST-MODIFIED:20230506T051651Z
UID:9039-1684054800-1684058400@icfmakati.org
SUMMARY:Ibadah Pagi (Bahasa Indonesia)
DESCRIPTION:May 21\, 2023		\n\n					\n				 @ 			\n			\n				5:30 am			\n		\n			 \n\n\n\n\n \n\n\n\n		\n\n\n\n\n\n	\n		\n	\n\n\n\n\n	\n		\n			\n				\n					\n						\n	\n	\n\n						\n							Add to calendar						\n						\n	\n\n					\n					\n						\n															\n									\n										Google Calendar									\n								\n															\n									\n										iCalendar									\n								\n															\n									\n										Outlook 365									\n								\n															\n									\n										Outlook Live
URL:https://icfmakati.org/event/ibadah-pagi-bahasa-indonesia-22/
CATEGORIES:Upcoming event
ATTACH;FMTTYPE=image/png:https://icfmakati.org/wp-content/uploads/2023/05/Aku-haus.png
END:VEVENT
BEGIN:VEVENT
DTSTART;TZID=Asia/Manila:20230507T173000
DTEND;TZID=Asia/Manila:20230507T183000
DTSTAMP:20260426T080708
CREATED:20230506T050545Z
LAST-MODIFIED:20230506T050931Z
UID:9019-1683480600-1683484200@icfmakati.org
SUMMARY:Ibadah Sore (Bahasa Indonesia)
DESCRIPTION:May 21\, 2023		\n\n					\n				 @ 			\n			\n				5:30 am			\n		\n			 \n\n\n\n\n \n\n\n\n		\n\n\n\n\n\n	\n		\n	\n\n\n\n\n	\n		\n			\n				\n					\n						\n	\n	\n\n						\n							Add to calendar						\n						\n	\n\n					\n					\n						\n															\n									\n										Google Calendar									\n								\n															\n									\n										iCalendar									\n								\n															\n									\n										Outlook 365									\n								\n															\n									\n										Outlook Live
URL:https://icfmakati.org/event/ibadah-sore-bahasa-indonesia-21/
CATEGORIES:Upcoming event
ATTACH;FMTTYPE=image/png:https://icfmakati.org/wp-content/uploads/2023/05/Eli-Eli-Lama-sabaktani.png
END:VEVENT
BEGIN:VEVENT
DTSTART;TZID=Asia/Manila:20230507T110000
DTEND;TZID=Asia/Manila:20230507T121500
DTSTAMP:20260426T080708
CREATED:20230505T103600Z
LAST-MODIFIED:20230506T015327Z
UID:8965-1683457200-1683461700@icfmakati.org
SUMMARY:English Service
DESCRIPTION:May 21\, 2023		\n\n					\n				 @ 			\n			\n				5:30 am			\n		\n			 \n\n\n\n\n \n\n\n\n		\n\n\n\n\n\n	\n		\n	\n\n\n\n\n	\n		\n			\n				\n					\n						\n	\n	\n\n						\n							Add to calendar						\n						\n	\n\n					\n					\n						\n															\n									\n										Google Calendar									\n								\n															\n									\n										iCalendar									\n								\n															\n									\n										Outlook 365									\n								\n															\n									\n										Outlook Live
URL:https://icfmakati.org/event/english-service-21/
CATEGORIES:Upcoming event
ATTACH;FMTTYPE=image/png:https://icfmakati.org/wp-content/uploads/2023/05/Eli-Eli-Lama-sabaktani.png
END:VEVENT
BEGIN:VEVENT
DTSTART;TZID=Asia/Manila:20230507T110000
DTEND;TZID=Asia/Manila:20230507T120000
DTSTAMP:20260426T080708
CREATED:20230506T051056Z
LAST-MODIFIED:20230506T051145Z
UID:9034-1683457200-1683460800@icfmakati.org
SUMMARY:Sunday School (Kids Class)
DESCRIPTION:May 21\, 2023		\n\n					\n				 @ 			\n			\n				5:30 am			\n		\n			 \n\n\n\n\n \n\n\n\n		\n\n\n\n\n\n	\n		\n	\n\n\n\n\n	\n		\n			\n				\n					\n						\n	\n	\n\n						\n							Add to calendar						\n						\n	\n\n					\n					\n						\n															\n									\n										Google Calendar									\n								\n															\n									\n										iCalendar									\n								\n															\n									\n										Outlook 365									\n								\n															\n									\n										Outlook Live
URL:https://icfmakati.org/event/sunday-school-kids-class-22/
CATEGORIES:Upcoming event
ATTACH;FMTTYPE=image/png:https://icfmakati.org/wp-content/uploads/2023/05/Eli-Eli-Lama-sabaktani.png
END:VEVENT
BEGIN:VEVENT
DTSTART;TZID=Asia/Manila:20230507T090000
DTEND;TZID=Asia/Manila:20230507T223000
DTSTAMP:20260426T080708
CREATED:20230502T153845Z
LAST-MODIFIED:20230502T154031Z
UID:8947-1683450000-1683498600@icfmakati.org
SUMMARY:Ibadah Pagi (Bahasa Indonesia)
DESCRIPTION:May 21\, 2023		\n\n					\n				 @ 			\n			\n				5:30 am			\n		\n			 \n\n\n\n\n \n\n\n\n		\n\n\n\n\n\n	\n		\n	\n\n\n\n\n	\n		\n			\n				\n					\n						\n	\n	\n\n						\n							Add to calendar						\n						\n	\n\n					\n					\n						\n															\n									\n										Google Calendar									\n								\n															\n									\n										iCalendar									\n								\n															\n									\n										Outlook 365									\n								\n															\n									\n										Outlook Live
URL:https://icfmakati.org/event/ibadah-pagi-bahasa-indonesia-20/
ATTACH;FMTTYPE=image/png:https://icfmakati.org/wp-content/uploads/2023/05/Eli-Eli-Lama-sabaktani.png
END:VEVENT
BEGIN:VEVENT
DTSTART;TZID=Asia/Manila:20230507T090000
DTEND;TZID=Asia/Manila:20230507T100000
DTSTAMP:20260426T080708
CREATED:20230506T050630Z
LAST-MODIFIED:20230506T050943Z
UID:9020-1683450000-1683453600@icfmakati.org
SUMMARY:Sunday School (Toddler Class)
DESCRIPTION:May 21\, 2023		\n\n					\n				 @ 			\n			\n				5:30 am			\n		\n			 \n\n\n\n\n \n\n\n\n		\n\n\n\n\n\n	\n		\n	\n\n\n\n\n	\n		\n			\n				\n					\n						\n	\n	\n\n						\n							Add to calendar						\n						\n	\n\n					\n					\n						\n															\n									\n										Google Calendar									\n								\n															\n									\n										iCalendar									\n								\n															\n									\n										Outlook 365									\n								\n															\n									\n										Outlook Live
URL:https://icfmakati.org/event/sunday-school-toddler-class-17/
CATEGORIES:Upcoming event
ATTACH;FMTTYPE=image/png:https://icfmakati.org/wp-content/uploads/2023/05/Eli-Eli-Lama-sabaktani.png
END:VEVENT
BEGIN:VEVENT
DTSTART;TZID=Asia/Manila:20230507T090000
DTEND;TZID=Asia/Manila:20230507T100000
DTSTAMP:20260426T080708
CREATED:20230506T050153Z
LAST-MODIFIED:20230506T050257Z
UID:9014-1683450000-1683453600@icfmakati.org
SUMMARY:Ibadah Pagi (Bahasa Indonesia)
DESCRIPTION:May 21\, 2023		\n\n					\n				 @ 			\n			\n				5:30 am			\n		\n			 \n\n\n\n\n \n\n\n\n		\n\n\n\n\n\n	\n		\n	\n\n\n\n\n	\n		\n			\n				\n					\n						\n	\n	\n\n						\n							Add to calendar						\n						\n	\n\n					\n					\n						\n															\n									\n										Google Calendar									\n								\n															\n									\n										iCalendar									\n								\n															\n									\n										Outlook 365									\n								\n															\n									\n										Outlook Live
URL:https://icfmakati.org/event/ibadah-pagi-bahasa-indonesia-21/
CATEGORIES:Upcoming event
END:VEVENT
BEGIN:VEVENT
DTSTART;TZID=Asia/Manila:20230503T190000
DTEND;TZID=Asia/Manila:20230503T203000
DTSTAMP:20260426T080708
CREATED:20230427T024800Z
LAST-MODIFIED:20230427T025153Z
UID:8911-1683140400-1683145800@icfmakati.org
SUMMARY:Tagalog Class
DESCRIPTION:May 21\, 2023		\n\n					\n				 @ 			\n			\n				5:30 am			\n		\n			 \n\n\n\n\n \n\n\n\n		\n\n\n\n\n\n	\n		\n	\n\n\n\n\n	\n		\n			\n				\n					\n						\n	\n	\n\n						\n							Add to calendar						\n						\n	\n\n					\n					\n						\n															\n									\n										Google Calendar									\n								\n															\n									\n										iCalendar									\n								\n															\n									\n										Outlook 365									\n								\n															\n									\n										Outlook Live
URL:https://icfmakati.org/event/tagalog-class/
CATEGORIES:Upcoming event
ATTACH;FMTTYPE=image/png:https://icfmakati.org/wp-content/uploads/2023/04/Design-1.png
END:VEVENT
BEGIN:VEVENT
DTSTART;TZID=Asia/Manila:20230501T190000
DTEND;TZID=Asia/Manila:20230501T203000
DTSTAMP:20260426T080708
CREATED:20230427T025501Z
LAST-MODIFIED:20230427T025608Z
UID:8917-1682967600-1682973000@icfmakati.org
SUMMARY:Baptism Class
DESCRIPTION:May 21\, 2023		\n\n					\n				 @ 			\n			\n				5:30 am			\n		\n			 \n\n\n\n\n \n\n\n\n		\n\n\n\n\n\n	\n		\n	\n\n\n\n\n	\n		\n			\n				\n					\n						\n	\n	\n\n						\n							Add to calendar						\n						\n	\n\n					\n					\n						\n															\n									\n										Google Calendar									\n								\n															\n									\n										iCalendar									\n								\n															\n									\n										Outlook 365									\n								\n															\n									\n										Outlook Live
URL:https://icfmakati.org/event/baptism-class/
CATEGORIES:Upcoming event
ATTACH;FMTTYPE=image/png:https://icfmakati.org/wp-content/uploads/2023/04/Blue-watercolor-Baptism-boy-invitation-Instagram-Post-Square-YouTube-Thumbnail-1.png
END:VEVENT
BEGIN:VEVENT
DTSTART;TZID=Asia/Manila:20230409T173000
DTEND;TZID=Asia/Manila:20230409T193000
DTSTAMP:20260426T080708
CREATED:20230318T101118Z
LAST-MODIFIED:20230318T101404Z
UID:8434-1681061400-1681068600@icfmakati.org
SUMMARY:Easter Service
DESCRIPTION:May 21\, 2023		\n\n					\n				 @ 			\n			\n				5:30 am			\n		\n			 \n\n\n\n\n \n\n\n\n		\n\n\n\n\n\n	\n		\n	\n\n\n\n\n	\n		\n			\n				\n					\n						\n	\n	\n\n						\n							Add to calendar						\n						\n	\n\n					\n					\n						\n															\n									\n										Google Calendar									\n								\n															\n									\n										iCalendar									\n								\n															\n									\n										Outlook 365									\n								\n															\n									\n										Outlook Live
URL:https://icfmakati.org/event/easter-service/
CATEGORIES:Upcoming event
ATTACH;FMTTYPE=image/jpeg:https://icfmakati.org/wp-content/uploads/2023/03/WhatsApp-Image-2023-03-18-at-6.02.27-PM.jpeg
END:VEVENT
BEGIN:VEVENT
DTSTART;TZID=Asia/Manila:20230407T100000
DTEND;TZID=Asia/Manila:20230407T130000
DTSTAMP:20260426T080708
CREATED:20230318T100722Z
LAST-MODIFIED:20230318T100901Z
UID:8426-1680861600-1680872400@icfmakati.org
SUMMARY:Good Friday Service
DESCRIPTION:May 21\, 2023		\n\n					\n				 @ 			\n			\n				5:30 am			\n		\n			 \n\n\n\n\n \n\n\n\n		\n\n\n\n\n\n	\n		\n	\n\n\n\n\n	\n		\n			\n				\n					\n						\n	\n	\n\n						\n							Add to calendar						\n						\n	\n\n					\n					\n						\n															\n									\n										Google Calendar									\n								\n															\n									\n										iCalendar									\n								\n															\n									\n										Outlook 365									\n								\n															\n									\n										Outlook Live
URL:https://icfmakati.org/event/good-friday-service/
CATEGORIES:Upcoming event
ATTACH;FMTTYPE=image/jpeg:https://icfmakati.org/wp-content/uploads/2023/03/WhatsApp-Image-2023-03-18-at-6.02.26-PM.jpeg
END:VEVENT
BEGIN:VEVENT
DTSTART;TZID=Asia/Manila:20230312T173000
DTEND;TZID=Asia/Manila:20230312T193000
DTSTAMP:20260426T080708
CREATED:20230209T131803Z
LAST-MODIFIED:20230209T131956Z
UID:8132-1678642200-1678649400@icfmakati.org
SUMMARY:What Does Light Look Like
DESCRIPTION:May 21\, 2023		\n\n					\n				 @ 			\n			\n				5:30 am			\n		\n			 \n\n\n\n\n \n\n\n\n		\n\n\n\n\n\n	\n		\n	\n\n\n\n\n	\n		\n			\n				\n					\n						\n	\n	\n\n						\n							Add to calendar						\n						\n	\n\n					\n					\n						\n															\n									\n										Google Calendar									\n								\n															\n									\n										iCalendar									\n								\n															\n									\n										Outlook 365									\n								\n															\n									\n										Outlook Live
URL:https://icfmakati.org/event/what-does-light-look-like/
CATEGORIES:Upcoming event
ATTACH;FMTTYPE=image/png:https://icfmakati.org/wp-content/uploads/2023/02/What-Does-Light-Look-Like-1.png
END:VEVENT
BEGIN:VEVENT
DTSTART;TZID=Asia/Manila:20230310T080000
DTEND;TZID=Asia/Manila:20230311T170000
DTSTAMP:20260426T080708
CREATED:20230209T131302Z
LAST-MODIFIED:20230209T131519Z
UID:8122-1678435200-1678554000@icfmakati.org
SUMMARY:Volunteer / Donation Needed
DESCRIPTION:May 21\, 2023		\n\n					\n				 @ 			\n			\n				5:30 am			\n		\n			 \n\n\n\n\n \n\n\n\n		\n\n\n\n\n\n	\n		\n	\n\n\n\n\n	\n		\n			\n				\n					\n						\n	\n	\n\n						\n							Add to calendar						\n						\n	\n\n					\n					\n						\n															\n									\n										Google Calendar									\n								\n															\n									\n										iCalendar									\n								\n															\n									\n										Outlook 365									\n								\n															\n									\n										Outlook Live
URL:https://icfmakati.org/event/volunteer-needed/
CATEGORIES:Upcoming event
ATTACH;FMTTYPE=image/png:https://icfmakati.org/wp-content/uploads/2023/02/Brown-Simple-Illustrated-Volunteer-Needed-Flyer-YouTube-Thumbnail.png
END:VEVENT
BEGIN:VEVENT
DTSTART;TZID=Asia/Manila:20230226T173000
DTEND;TZID=Asia/Manila:20230226T190000
DTSTAMP:20260426T080708
CREATED:20230209T130531Z
LAST-MODIFIED:20230209T130657Z
UID:8110-1677432600-1677438000@icfmakati.org
SUMMARY:Revival Worship
DESCRIPTION:May 21\, 2023		\n\n					\n				 @ 			\n			\n				5:30 am			\n		\n			 \n\n\n\n\n \n\n\n\n		\n\n\n\n\n\n	\n		\n	\n\n\n\n\n	\n		\n			\n				\n					\n						\n	\n	\n\n						\n							Add to calendar						\n						\n	\n\n					\n					\n						\n															\n									\n										Google Calendar									\n								\n															\n									\n										iCalendar									\n								\n															\n									\n										Outlook 365									\n								\n															\n									\n										Outlook Live
URL:https://icfmakati.org/event/revival-worship/
CATEGORIES:Upcoming event
ATTACH;FMTTYPE=image/png:https://icfmakati.org/wp-content/uploads/2023/02/Revival-Worship.png
END:VEVENT
BEGIN:VEVENT
DTSTART;TZID=Asia/Manila:20230129T173000
DTEND;TZID=Asia/Manila:20230129T190000
DTSTAMP:20260426T080708
CREATED:20230104T055140Z
LAST-MODIFIED:20230104T055236Z
UID:7832-1675013400-1675018800@icfmakati.org
SUMMARY:Ibadah Sore (Bahasa Indonesia)
DESCRIPTION:May 21\, 2023		\n\n					\n				 @ 			\n			\n				5:30 am			\n		\n			 \n\n\n\n\n \n\n\n\n		\n\n\n\n\n\n	\n		\n	\n\n\n\n\n	\n		\n			\n				\n					\n						\n	\n	\n\n						\n							Add to calendar						\n						\n	\n\n					\n					\n						\n															\n									\n										Google Calendar									\n								\n															\n									\n										iCalendar									\n								\n															\n									\n										Outlook 365									\n								\n															\n									\n										Outlook Live
URL:https://icfmakati.org/event/ibadah-sore-bahasa-indonesia-20/
END:VEVENT
BEGIN:VEVENT
DTSTART;TZID=Asia/Manila:20230129T110000
DTEND;TZID=Asia/Manila:20230129T120000
DTSTAMP:20260426T080708
CREATED:20230104T055344Z
LAST-MODIFIED:20230104T055415Z
UID:7846-1674990000-1674993600@icfmakati.org
SUMMARY:Sunday School (Kids Class)
DESCRIPTION:May 21\, 2023		\n\n					\n				 @ 			\n			\n				5:30 am			\n		\n			 \n\n\n\n\n \n\n\n\n		\n\n\n\n\n\n	\n		\n	\n\n\n\n\n	\n		\n			\n				\n					\n						\n	\n	\n\n						\n							Add to calendar						\n						\n	\n\n					\n					\n						\n															\n									\n										Google Calendar									\n								\n															\n									\n										iCalendar									\n								\n															\n									\n										Outlook 365									\n								\n															\n									\n										Outlook Live
URL:https://icfmakati.org/event/sunday-school-kids-class-21/
END:VEVENT
BEGIN:VEVENT
DTSTART;TZID=Asia/Manila:20230129T110000
DTEND;TZID=Asia/Manila:20230129T120000
DTSTAMP:20260426T080708
CREATED:20230104T055121Z
LAST-MODIFIED:20230104T055157Z
UID:7831-1674990000-1674993600@icfmakati.org
SUMMARY:English Service
DESCRIPTION:May 21\, 2023		\n\n					\n				 @ 			\n			\n				5:30 am			\n		\n			 \n\n\n\n\n \n\n\n\n		\n\n\n\n\n\n	\n		\n	\n\n\n\n\n	\n		\n			\n				\n					\n						\n	\n	\n\n						\n							Add to calendar						\n						\n	\n\n					\n					\n						\n															\n									\n										Google Calendar									\n								\n															\n									\n										iCalendar									\n								\n															\n									\n										Outlook 365									\n								\n															\n									\n										Outlook Live
URL:https://icfmakati.org/event/english-service-20/
END:VEVENT
BEGIN:VEVENT
DTSTART;TZID=Asia/Manila:20230129T090000
DTEND;TZID=Asia/Manila:20230129T100000
DTSTAMP:20260426T080708
CREATED:20230104T055331Z
LAST-MODIFIED:20230104T055352Z
UID:7845-1674982800-1674986400@icfmakati.org
SUMMARY:Sunday School (Toddler Class)
DESCRIPTION:May 21\, 2023		\n\n					\n				 @ 			\n			\n				5:30 am			\n		\n			 \n\n\n\n\n \n\n\n\n		\n\n\n\n\n\n	\n		\n	\n\n\n\n\n	\n		\n			\n				\n					\n						\n	\n	\n\n						\n							Add to calendar						\n						\n	\n\n					\n					\n						\n															\n									\n										Google Calendar									\n								\n															\n									\n										iCalendar									\n								\n															\n									\n										Outlook 365									\n								\n															\n									\n										Outlook Live
URL:https://icfmakati.org/event/sunday-school-toddler-class-16/
END:VEVENT
BEGIN:VEVENT
DTSTART;TZID=Asia/Manila:20230129T090000
DTEND;TZID=Asia/Manila:20230129T100000
DTSTAMP:20260426T080708
CREATED:20230104T055109Z
LAST-MODIFIED:20230104T055148Z
UID:7830-1674982800-1674986400@icfmakati.org
SUMMARY:Ibadah Pagi (Bahasa Indonesia)
DESCRIPTION:May 21\, 2023		\n\n					\n				 @ 			\n			\n				5:30 am			\n		\n			 \n\n\n\n\n \n\n\n\n		\n\n\n\n\n\n	\n		\n	\n\n\n\n\n	\n		\n			\n				\n					\n						\n	\n	\n\n						\n							Add to calendar						\n						\n	\n\n					\n					\n						\n															\n									\n										Google Calendar									\n								\n															\n									\n										iCalendar									\n								\n															\n									\n										Outlook 365									\n								\n															\n									\n										Outlook Live
URL:https://icfmakati.org/event/ibadah-pagi-bahasa-indonesia-19/
END:VEVENT
BEGIN:VEVENT
DTSTART;TZID=Asia/Manila:20230122T173000
DTEND;TZID=Asia/Manila:20230122T190000
DTSTAMP:20260426T080708
CREATED:20230104T052308Z
LAST-MODIFIED:20230104T052341Z
UID:7801-1674408600-1674414000@icfmakati.org
SUMMARY:Ibadah Sore (Bahasa Indonesia)
DESCRIPTION:May 21\, 2023		\n\n					\n				 @ 			\n			\n				5:30 am			\n		\n			 \n\n\n\n\n \n\n\n\n		\n\n\n\n\n\n	\n		\n	\n\n\n\n\n	\n		\n			\n				\n					\n						\n	\n	\n\n						\n							Add to calendar						\n						\n	\n\n					\n					\n						\n															\n									\n										Google Calendar									\n								\n															\n									\n										iCalendar									\n								\n															\n									\n										Outlook 365									\n								\n															\n									\n										Outlook Live
URL:https://icfmakati.org/event/ibadah-sore-bahasa-indonesia-19/
END:VEVENT
BEGIN:VEVENT
DTSTART;TZID=Asia/Manila:20230122T110000
DTEND;TZID=Asia/Manila:20230122T120000
DTSTAMP:20260426T080708
CREATED:20230104T052946Z
LAST-MODIFIED:20230104T053008Z
UID:7815-1674385200-1674388800@icfmakati.org
SUMMARY:Sunday School (Kids Class)
DESCRIPTION:May 21\, 2023		\n\n					\n				 @ 			\n			\n				5:30 am			\n		\n			 \n\n\n\n\n \n\n\n\n		\n\n\n\n\n\n	\n		\n	\n\n\n\n\n	\n		\n			\n				\n					\n						\n	\n	\n\n						\n							Add to calendar						\n						\n	\n\n					\n					\n						\n															\n									\n										Google Calendar									\n								\n															\n									\n										iCalendar									\n								\n															\n									\n										Outlook 365									\n								\n															\n									\n										Outlook Live
URL:https://icfmakati.org/event/sunday-school-kids-class-20/
END:VEVENT
END:VCALENDAR