BEGIN:VCALENDAR
VERSION:2.0
PRODID:-//ICF MAKATI - ECPv6.15.11//NONSGML v1.0//EN
CALSCALE:GREGORIAN
METHOD:PUBLISH
X-ORIGINAL-URL:https://icfmakati.org
X-WR-CALDESC:Events for ICF MAKATI
REFRESH-INTERVAL;VALUE=DURATION:PT1H
X-Robots-Tag:noindex
X-PUBLISHED-TTL:PT1H
BEGIN:VTIMEZONE
TZID:Asia/Manila
BEGIN:STANDARD
TZOFFSETFROM:+0800
TZOFFSETTO:+0800
TZNAME:PST
DTSTART:20210101T000000
END:STANDARD
END:VTIMEZONE
BEGIN:VEVENT
DTSTART;TZID=Asia/Manila:20230122T110000
DTEND;TZID=Asia/Manila:20230122T120000
DTSTAMP:20260426T122341
CREATED:20230104T052245Z
LAST-MODIFIED:20230104T052328Z
UID:7800-1674385200-1674388800@icfmakati.org
SUMMARY:English Service
DESCRIPTION:January 22\, 2023		\n\n					\n				 @ 			\n			\n				5:30 pm			\n		\n									\n					 - 				\n			\n							\n					7:00 pm				\n			\n						 \n\n\n\n\n \n\n\n\n		\n\n\n\n\n\n	\n		\n	\n\n\n\n\n	\n		\n			\n				\n					\n						\n	\n	\n\n						\n							Add to calendar						\n						\n	\n\n					\n					\n						\n															\n									\n										Google Calendar									\n								\n															\n									\n										iCalendar									\n								\n															\n									\n										Outlook 365									\n								\n															\n									\n										Outlook Live
URL:https://icfmakati.org/event/english-service-19/
END:VEVENT
BEGIN:VEVENT
DTSTART;TZID=Asia/Manila:20230122T090000
DTEND;TZID=Asia/Manila:20230122T100000
DTSTAMP:20260426T122341
CREATED:20230104T052924Z
LAST-MODIFIED:20230104T053105Z
UID:7814-1674378000-1674381600@icfmakati.org
SUMMARY:Sunday School (Toddler Class)
DESCRIPTION:January 22\, 2023		\n\n					\n				 @ 			\n			\n				5:30 pm			\n		\n									\n					 - 				\n			\n							\n					7:00 pm				\n			\n						 \n\n\n\n\n \n\n\n\n		\n\n\n\n\n\n	\n		\n	\n\n\n\n\n	\n		\n			\n				\n					\n						\n	\n	\n\n						\n							Add to calendar						\n						\n	\n\n					\n					\n						\n															\n									\n										Google Calendar									\n								\n															\n									\n										iCalendar									\n								\n															\n									\n										Outlook 365									\n								\n															\n									\n										Outlook Live
URL:https://icfmakati.org/event/sunday-school-toddler-class-15/
END:VEVENT
BEGIN:VEVENT
DTSTART;TZID=Asia/Manila:20230122T090000
DTEND;TZID=Asia/Manila:20230122T100000
DTSTAMP:20260426T122341
CREATED:20230104T052218Z
LAST-MODIFIED:20230104T052318Z
UID:7799-1674378000-1674381600@icfmakati.org
SUMMARY:Ibadah Pagi (Bahasa Indonesia)
DESCRIPTION:January 22\, 2023		\n\n					\n				 @ 			\n			\n				5:30 pm			\n		\n									\n					 - 				\n			\n							\n					7:00 pm				\n			\n						 \n\n\n\n\n \n\n\n\n		\n\n\n\n\n\n	\n		\n	\n\n\n\n\n	\n		\n			\n				\n					\n						\n	\n	\n\n						\n							Add to calendar						\n						\n	\n\n					\n					\n						\n															\n									\n										Google Calendar									\n								\n															\n									\n										iCalendar									\n								\n															\n									\n										Outlook 365									\n								\n															\n									\n										Outlook Live
URL:https://icfmakati.org/event/ibadah-pagi-bahasa-indonesia-18/
END:VEVENT
BEGIN:VEVENT
DTSTART;TZID=Asia/Manila:20230115T173000
DTEND;TZID=Asia/Manila:20230115T190000
DTSTAMP:20260426T122341
CREATED:20230104T045013Z
LAST-MODIFIED:20230104T045125Z
UID:7779-1673803800-1673809200@icfmakati.org
SUMMARY:Ibadah Sore (Bahasa Indonesia)
DESCRIPTION:January 22\, 2023		\n\n					\n				 @ 			\n			\n				5:30 pm			\n		\n									\n					 - 				\n			\n							\n					7:00 pm				\n			\n						 \n\n\n\n\n \n\n\n\n		\n\n\n\n\n\n	\n		\n	\n\n\n\n\n	\n		\n			\n				\n					\n						\n	\n	\n\n						\n							Add to calendar						\n						\n	\n\n					\n					\n						\n															\n									\n										Google Calendar									\n								\n															\n									\n										iCalendar									\n								\n															\n									\n										Outlook 365									\n								\n															\n									\n										Outlook Live
URL:https://icfmakati.org/event/ibadah-sore-bahasa-indonesia-18/
END:VEVENT
BEGIN:VEVENT
DTSTART;TZID=Asia/Manila:20230115T110000
DTEND;TZID=Asia/Manila:20230115T120000
DTSTAMP:20260426T122341
CREATED:20230104T044952Z
LAST-MODIFIED:20230104T045046Z
UID:7780-1673780400-1673784000@icfmakati.org
SUMMARY:Sunday School (Kids Class)
DESCRIPTION:January 22\, 2023		\n\n					\n				 @ 			\n			\n				5:30 pm			\n		\n									\n					 - 				\n			\n							\n					7:00 pm				\n			\n						 \n\n\n\n\n \n\n\n\n		\n\n\n\n\n\n	\n		\n	\n\n\n\n\n	\n		\n			\n				\n					\n						\n	\n	\n\n						\n							Add to calendar						\n						\n	\n\n					\n					\n						\n															\n									\n										Google Calendar									\n								\n															\n									\n										iCalendar									\n								\n															\n									\n										Outlook 365									\n								\n															\n									\n										Outlook Live
URL:https://icfmakati.org/event/sunday-school-kids-class-19/
END:VEVENT
BEGIN:VEVENT
DTSTART;TZID=Asia/Manila:20230115T110000
DTEND;TZID=Asia/Manila:20230115T120000
DTSTAMP:20260426T122341
CREATED:20230104T044309Z
LAST-MODIFIED:20230104T044538Z
UID:7766-1673780400-1673784000@icfmakati.org
SUMMARY:English Service
DESCRIPTION:January 22\, 2023		\n\n					\n				 @ 			\n			\n				5:30 pm			\n		\n									\n					 - 				\n			\n							\n					7:00 pm				\n			\n						 \n\n\n\n\n \n\n\n\n		\n\n\n\n\n\n	\n		\n	\n\n\n\n\n	\n		\n			\n				\n					\n						\n	\n	\n\n						\n							Add to calendar						\n						\n	\n\n					\n					\n						\n															\n									\n										Google Calendar									\n								\n															\n									\n										iCalendar									\n								\n															\n									\n										Outlook 365									\n								\n															\n									\n										Outlook Live
URL:https://icfmakati.org/event/english-service-18/
END:VEVENT
BEGIN:VEVENT
DTSTART;TZID=Asia/Manila:20230115T090000
DTEND;TZID=Asia/Manila:20230115T100000
DTSTAMP:20260426T122341
CREATED:20230104T044924Z
LAST-MODIFIED:20230104T045013Z
UID:7781-1673773200-1673776800@icfmakati.org
SUMMARY:Sunday School (Toddler Class)
DESCRIPTION:January 22\, 2023		\n\n					\n				 @ 			\n			\n				5:30 pm			\n		\n									\n					 - 				\n			\n							\n					7:00 pm				\n			\n						 \n\n\n\n\n \n\n\n\n		\n\n\n\n\n\n	\n		\n	\n\n\n\n\n	\n		\n			\n				\n					\n						\n	\n	\n\n						\n							Add to calendar						\n						\n	\n\n					\n					\n						\n															\n									\n										Google Calendar									\n								\n															\n									\n										iCalendar									\n								\n															\n									\n										Outlook 365									\n								\n															\n									\n										Outlook Live
URL:https://icfmakati.org/event/sunday-school-toddler-class-14/
END:VEVENT
BEGIN:VEVENT
DTSTART;TZID=Asia/Manila:20230115T090000
DTEND;TZID=Asia/Manila:20230115T100000
DTSTAMP:20260426T122341
CREATED:20230104T044131Z
LAST-MODIFIED:20230104T044319Z
UID:7761-1673773200-1673776800@icfmakati.org
SUMMARY:Ibadah Pagi (Bahasa Indonesia)
DESCRIPTION:January 22\, 2023		\n\n					\n				 @ 			\n			\n				5:30 pm			\n		\n									\n					 - 				\n			\n							\n					7:00 pm				\n			\n						 \n\n\n\n\n \n\n\n\n		\n\n\n\n\n\n	\n		\n	\n\n\n\n\n	\n		\n			\n				\n					\n						\n	\n	\n\n						\n							Add to calendar						\n						\n	\n\n					\n					\n						\n															\n									\n										Google Calendar									\n								\n															\n									\n										iCalendar									\n								\n															\n									\n										Outlook 365									\n								\n															\n									\n										Outlook Live
URL:https://icfmakati.org/event/ibadah-pagi-bahasa-indonesia-17/
END:VEVENT
BEGIN:VEVENT
DTSTART;TZID=Asia/Manila:20230108T173000
DTEND;TZID=Asia/Manila:20230108T190000
DTSTAMP:20260426T122341
CREATED:20230104T043257Z
LAST-MODIFIED:20230104T043509Z
UID:7740-1673199000-1673204400@icfmakati.org
SUMMARY:Ibadah Sore (Bahasa Indonesia)
DESCRIPTION:January 22\, 2023		\n\n					\n				 @ 			\n			\n				5:30 pm			\n		\n									\n					 - 				\n			\n							\n					7:00 pm				\n			\n						 \n\n\n\n\n \n\n\n\n		\n\n\n\n\n\n	\n		\n	\n\n\n\n\n	\n		\n			\n				\n					\n						\n	\n	\n\n						\n							Add to calendar						\n						\n	\n\n					\n					\n						\n															\n									\n										Google Calendar									\n								\n															\n									\n										iCalendar									\n								\n															\n									\n										Outlook 365									\n								\n															\n									\n										Outlook Live
URL:https://icfmakati.org/event/ibadah-sore-bahasa-indonesia-16/
END:VEVENT
BEGIN:VEVENT
DTSTART;TZID=Asia/Manila:20230108T110000
DTEND;TZID=Asia/Manila:20230109T000000
DTSTAMP:20260426T122341
CREATED:20230104T043801Z
LAST-MODIFIED:20230104T043824Z
UID:7752-1673175600-1673222400@icfmakati.org
SUMMARY:Sunday School (Kids Class)
DESCRIPTION:January 22\, 2023		\n\n					\n				 @ 			\n			\n				5:30 pm			\n		\n									\n					 - 				\n			\n							\n					7:00 pm				\n			\n						 \n\n\n\n\n \n\n\n\n		\n\n\n\n\n\n	\n		\n	\n\n\n\n\n	\n		\n			\n				\n					\n						\n	\n	\n\n						\n							Add to calendar						\n						\n	\n\n					\n					\n						\n															\n									\n										Google Calendar									\n								\n															\n									\n										iCalendar									\n								\n															\n									\n										Outlook 365									\n								\n															\n									\n										Outlook Live
URL:https://icfmakati.org/event/sunday-school-kids-class-18/
END:VEVENT
BEGIN:VEVENT
DTSTART;TZID=Asia/Manila:20230108T110000
DTEND;TZID=Asia/Manila:20230108T120000
DTSTAMP:20260426T122341
CREATED:20230104T043115Z
LAST-MODIFIED:20230104T043510Z
UID:7739-1673175600-1673179200@icfmakati.org
SUMMARY:English Service
DESCRIPTION:January 22\, 2023		\n\n					\n				 @ 			\n			\n				5:30 pm			\n		\n									\n					 - 				\n			\n							\n					7:00 pm				\n			\n						 \n\n\n\n\n \n\n\n\n		\n\n\n\n\n\n	\n		\n	\n\n\n\n\n	\n		\n			\n				\n					\n						\n	\n	\n\n						\n							Add to calendar						\n						\n	\n\n					\n					\n						\n															\n									\n										Google Calendar									\n								\n															\n									\n										iCalendar									\n								\n															\n									\n										Outlook 365									\n								\n															\n									\n										Outlook Live
URL:https://icfmakati.org/event/english-service-17/
END:VEVENT
BEGIN:VEVENT
DTSTART;TZID=Asia/Manila:20230108T090000
DTEND;TZID=Asia/Manila:20230108T110000
DTSTAMP:20260426T122341
CREATED:20230104T042816Z
LAST-MODIFIED:20230104T043026Z
UID:7733-1673168400-1673175600@icfmakati.org
SUMMARY:Ibadah Pagi (Bahasa Indonesia)
DESCRIPTION:January 22\, 2023		\n\n					\n				 @ 			\n			\n				5:30 pm			\n		\n									\n					 - 				\n			\n							\n					7:00 pm				\n			\n						 \n\n\n\n\n \n\n\n\n		\n\n\n\n\n\n	\n		\n	\n\n\n\n\n	\n		\n			\n				\n					\n						\n	\n	\n\n						\n							Add to calendar						\n						\n	\n\n					\n					\n						\n															\n									\n										Google Calendar									\n								\n															\n									\n										iCalendar									\n								\n															\n									\n										Outlook 365									\n								\n															\n									\n										Outlook Live
URL:https://icfmakati.org/event/ibadah-pagi-bahasa-indonesia-16/
END:VEVENT
BEGIN:VEVENT
DTSTART;TZID=Asia/Manila:20230108T090000
DTEND;TZID=Asia/Manila:20230108T100000
DTSTAMP:20260426T122341
CREATED:20230104T043736Z
LAST-MODIFIED:20230104T043808Z
UID:7751-1673168400-1673172000@icfmakati.org
SUMMARY:Sunday School (Toddler Class)
DESCRIPTION:January 22\, 2023		\n\n					\n				 @ 			\n			\n				5:30 pm			\n		\n									\n					 - 				\n			\n							\n					7:00 pm				\n			\n						 \n\n\n\n\n \n\n\n\n		\n\n\n\n\n\n	\n		\n	\n\n\n\n\n	\n		\n			\n				\n					\n						\n	\n	\n\n						\n							Add to calendar						\n						\n	\n\n					\n					\n						\n															\n									\n										Google Calendar									\n								\n															\n									\n										iCalendar									\n								\n															\n									\n										Outlook 365									\n								\n															\n									\n										Outlook Live
URL:https://icfmakati.org/event/sunday-school-toddler-class-13/
END:VEVENT
BEGIN:VEVENT
DTSTART;TZID=Asia/Manila:20230104T080000
DTEND;TZID=Asia/Manila:20230104T170000
DTSTAMP:20260426T122341
CREATED:20230104T044314Z
LAST-MODIFIED:20230104T044746Z
UID:7768-1672819200-1672851600@icfmakati.org
SUMMARY:Ibadah Sore (Bahasa Indonesia)
DESCRIPTION:January 22\, 2023		\n\n					\n				 @ 			\n			\n				5:30 pm			\n		\n									\n					 - 				\n			\n							\n					7:00 pm				\n			\n						 \n\n\n\n\n \n\n\n\n		\n\n\n\n\n\n	\n		\n	\n\n\n\n\n	\n		\n			\n				\n					\n						\n	\n	\n\n						\n							Add to calendar						\n						\n	\n\n					\n					\n						\n															\n									\n										Google Calendar									\n								\n															\n									\n										iCalendar									\n								\n															\n									\n										Outlook 365									\n								\n															\n									\n										Outlook Live
URL:https://icfmakati.org/event/ibadah-sore-bahasa-indonesia-17/
END:VEVENT
BEGIN:VEVENT
DTSTART;TZID=Asia/Manila:20230101T173000
DTEND;TZID=Asia/Manila:20230101T190000
DTSTAMP:20260426T122341
CREATED:20221114T140000Z
LAST-MODIFIED:20221230T163651Z
UID:6365-1672594200-1672599600@icfmakati.org
SUMMARY:Makin Beriman Makin Berhikmat
DESCRIPTION:January 22\, 2023		\n\n					\n				 @ 			\n			\n				5:30 pm			\n		\n									\n					 - 				\n			\n							\n					7:00 pm				\n			\n						 \n\n\n\n\n \n\n\n\n		\n\n\n\n\n\n	\n		\n	\n\n\n\n\n	\n		\n			\n				\n					\n						\n	\n	\n\n						\n							Add to calendar						\n						\n	\n\n					\n					\n						\n															\n									\n										Google Calendar									\n								\n															\n									\n										iCalendar									\n								\n															\n									\n										Outlook 365									\n								\n															\n									\n										Outlook Live
URL:https://icfmakati.org/event/makin-beriman-makin-berhikmat/
CATEGORIES:Upcoming event
ATTACH;FMTTYPE=image/png:https://icfmakati.org/wp-content/uploads/2022/11/Makin-Beriman-Makin-Berhikmat-1280-×-720px.png
END:VEVENT
BEGIN:VEVENT
DTSTART;TZID=Asia/Manila:20230101T110000
DTEND;TZID=Asia/Manila:20230101T120000
DTSTAMP:20260426T122341
CREATED:20221230T164628Z
LAST-MODIFIED:20221230T164657Z
UID:7648-1672570800-1672574400@icfmakati.org
SUMMARY:Sunday School (Kids Class)
DESCRIPTION:January 22\, 2023		\n\n					\n				 @ 			\n			\n				5:30 pm			\n		\n									\n					 - 				\n			\n							\n					7:00 pm				\n			\n						 \n\n\n\n\n \n\n\n\n		\n\n\n\n\n\n	\n		\n	\n\n\n\n\n	\n		\n			\n				\n					\n						\n	\n	\n\n						\n							Add to calendar						\n						\n	\n\n					\n					\n						\n															\n									\n										Google Calendar									\n								\n															\n									\n										iCalendar									\n								\n															\n									\n										Outlook 365									\n								\n															\n									\n										Outlook Live
URL:https://icfmakati.org/event/sunday-school-kids-class-16/
ATTACH;FMTTYPE=image/png:https://icfmakati.org/wp-content/uploads/2022/10/Makin-Beriman-Makin-Berhikmat.png
END:VEVENT
BEGIN:VEVENT
DTSTART;TZID=Asia/Manila:20230101T090000
DTEND;TZID=Asia/Manila:20230101T100000
DTSTAMP:20260426T122341
CREATED:20221230T164746Z
LAST-MODIFIED:20221230T164837Z
UID:7649-1672563600-1672567200@icfmakati.org
SUMMARY:Ibadah Awal Tahun
DESCRIPTION:January 22\, 2023		\n\n					\n				 @ 			\n			\n				5:30 pm			\n		\n									\n					 - 				\n			\n							\n					7:00 pm				\n			\n						 \n\n\n\n\n \n\n\n\n		\n\n\n\n\n\n	\n		\n	\n\n\n\n\n	\n		\n			\n				\n					\n						\n	\n	\n\n						\n							Add to calendar						\n						\n	\n\n					\n					\n						\n															\n									\n										Google Calendar									\n								\n															\n									\n										iCalendar									\n								\n															\n									\n										Outlook 365									\n								\n															\n									\n										Outlook Live
URL:https://icfmakati.org/event/ibadah-awal-tahun/
ATTACH;FMTTYPE=image/png:https://icfmakati.org/wp-content/uploads/2022/10/Makin-Beriman-Makin-Berhikmat.png
END:VEVENT
BEGIN:VEVENT
DTSTART;TZID=Asia/Manila:20230101T090000
DTEND;TZID=Asia/Manila:20230101T100000
DTSTAMP:20260426T122341
CREATED:20221230T164441Z
LAST-MODIFIED:20221230T164535Z
UID:7642-1672563600-1672567200@icfmakati.org
SUMMARY:Sunday School (Toddler Class)
DESCRIPTION:January 22\, 2023		\n\n					\n				 @ 			\n			\n				5:30 pm			\n		\n									\n					 - 				\n			\n							\n					7:00 pm				\n			\n						 \n\n\n\n\n \n\n\n\n		\n\n\n\n\n\n	\n		\n	\n\n\n\n\n	\n		\n			\n				\n					\n						\n	\n	\n\n						\n							Add to calendar						\n						\n	\n\n					\n					\n						\n															\n									\n										Google Calendar									\n								\n															\n									\n										iCalendar									\n								\n															\n									\n										Outlook 365									\n								\n															\n									\n										Outlook Live
URL:https://icfmakati.org/event/sunday-school-toddler-class-11/
END:VEVENT
BEGIN:VEVENT
DTSTART;TZID=Asia/Manila:20221231T190000
DTEND;TZID=Asia/Manila:20221231T210000
DTSTAMP:20260426T122341
CREATED:20221230T165210Z
LAST-MODIFIED:20221230T165241Z
UID:7659-1672513200-1672520400@icfmakati.org
SUMMARY:Ibadah Tutup Tahun
DESCRIPTION:January 22\, 2023		\n\n					\n				 @ 			\n			\n				5:30 pm			\n		\n									\n					 - 				\n			\n							\n					7:00 pm				\n			\n						 \n\n\n\n\n \n\n\n\n		\n\n\n\n\n\n	\n		\n	\n\n\n\n\n	\n		\n			\n				\n					\n						\n	\n	\n\n						\n							Add to calendar						\n						\n	\n\n					\n					\n						\n															\n									\n										Google Calendar									\n								\n															\n									\n										iCalendar									\n								\n															\n									\n										Outlook 365									\n								\n															\n									\n										Outlook Live
URL:https://icfmakati.org/event/ibadah-tutup-tahun/
ATTACH;FMTTYPE=image/png:https://icfmakati.org/wp-content/uploads/2022/10/THE-POWER-OF.png
END:VEVENT
BEGIN:VEVENT
DTSTART;TZID=Asia/Manila:20221231T070000
DTEND;TZID=Asia/Manila:20221231T070000
DTSTAMP:20260426T122341
CREATED:20221114T135135Z
LAST-MODIFIED:20221114T135318Z
UID:6380-1672470000-1672470000@icfmakati.org
SUMMARY:The Power of Gratitute
DESCRIPTION:January 22\, 2023		\n\n					\n				 @ 			\n			\n				5:30 pm			\n		\n									\n					 - 				\n			\n							\n					7:00 pm				\n			\n						 \n\n\n\n\n \n\n\n\n		\n\n\n\n\n\n	\n		\n	\n\n\n\n\n	\n		\n			\n				\n					\n						\n	\n	\n\n						\n							Add to calendar						\n						\n	\n\n					\n					\n						\n															\n									\n										Google Calendar									\n								\n															\n									\n										iCalendar									\n								\n															\n									\n										Outlook 365									\n								\n															\n									\n										Outlook Live
URL:https://icfmakati.org/event/the-power-of-gratitute/
CATEGORIES:Upcoming event
ATTACH;FMTTYPE=image/png:https://icfmakati.org/wp-content/uploads/2022/11/THE-POWER-OF-1280-×-720px-1.png
END:VEVENT
BEGIN:VEVENT
DTSTART;TZID=Asia/Manila:20221225T170000
DTEND;TZID=Asia/Manila:20221225T190000
DTSTAMP:20260426T122341
CREATED:20221024T132532Z
LAST-MODIFIED:20221114T052029Z
UID:5885-1671987600-1671994800@icfmakati.org
SUMMARY:Ibadah Perayaan Natal 2022
DESCRIPTION:January 22\, 2023		\n\n					\n				 @ 			\n			\n				5:30 pm			\n		\n									\n					 - 				\n			\n							\n					7:00 pm				\n			\n						 \n\n\n\n\n \n\n\n\n		\n\n\n\n\n\n	\n		\n	\n\n\n\n\n	\n		\n			\n				\n					\n						\n	\n	\n\n						\n							Add to calendar						\n						\n	\n\n					\n					\n						\n															\n									\n										Google Calendar									\n								\n															\n									\n										iCalendar									\n								\n															\n									\n										Outlook 365									\n								\n															\n									\n										Outlook Live
URL:https://icfmakati.org/event/ibadah-perayaan-natal-2022/
CATEGORIES:Upcoming event
ATTACH;FMTTYPE=image/png:https://icfmakati.org/wp-content/uploads/2022/11/Prince-of-Peace-1.png
END:VEVENT
BEGIN:VEVENT
DTSTART;TZID=Asia/Manila:20221224T053000
DTEND;TZID=Asia/Manila:20221224T190000
DTSTAMP:20260426T122341
CREATED:20221015T134700Z
LAST-MODIFIED:20221114T135644Z
UID:6371-1671859800-1671908400@icfmakati.org
SUMMARY:Most Worthy Of Praise
DESCRIPTION:January 22\, 2023		\n\n					\n				 @ 			\n			\n				5:30 pm			\n		\n									\n					 - 				\n			\n							\n					7:00 pm				\n			\n						 \n\n\n\n\n \n\n\n\n		\n\n\n\n\n\n	\n		\n	\n\n\n\n\n	\n		\n			\n				\n					\n						\n	\n	\n\n						\n							Add to calendar						\n						\n	\n\n					\n					\n						\n															\n									\n										Google Calendar									\n								\n															\n									\n										iCalendar									\n								\n															\n									\n										Outlook 365									\n								\n															\n									\n										Outlook Live
URL:https://icfmakati.org/event/most-worthy-of-praise/
CATEGORIES:Upcoming event
ATTACH;FMTTYPE=image/png:https://icfmakati.org/wp-content/uploads/2022/11/Most-Worthy-of-Praise-1280-×-720px.png
END:VEVENT
BEGIN:VEVENT
DTSTART;TZID=Asia/Manila:20221218T173000
DTEND;TZID=Asia/Manila:20221218T190000
DTSTAMP:20260426T122341
CREATED:20221214T170700Z
LAST-MODIFIED:20221230T170823Z
UID:7684-1671384600-1671390000@icfmakati.org
SUMMARY:Ibadah Sore (Bahasa Indonesia)
DESCRIPTION:January 22\, 2023		\n\n					\n				 @ 			\n			\n				5:30 pm			\n		\n									\n					 - 				\n			\n							\n					7:00 pm				\n			\n						 \n\n\n\n\n \n\n\n\n		\n\n\n\n\n\n	\n		\n	\n\n\n\n\n	\n		\n			\n				\n					\n						\n	\n	\n\n						\n							Add to calendar						\n						\n	\n\n					\n					\n						\n															\n									\n										Google Calendar									\n								\n															\n									\n										iCalendar									\n								\n															\n									\n										Outlook 365									\n								\n															\n									\n										Outlook Live
URL:https://icfmakati.org/event/ibadah-sore-bahasa-indonesia-15/
END:VEVENT
BEGIN:VEVENT
DTSTART;TZID=Asia/Manila:20221218T110000
DTEND;TZID=Asia/Manila:20221218T120000
DTSTAMP:20260426T122341
CREATED:20221214T170300Z
LAST-MODIFIED:20221230T170825Z
UID:7685-1671361200-1671364800@icfmakati.org
SUMMARY:English Service
DESCRIPTION:January 22\, 2023		\n\n					\n				 @ 			\n			\n				5:30 pm			\n		\n									\n					 - 				\n			\n							\n					7:00 pm				\n			\n						 \n\n\n\n\n \n\n\n\n		\n\n\n\n\n\n	\n		\n	\n\n\n\n\n	\n		\n			\n				\n					\n						\n	\n	\n\n						\n							Add to calendar						\n						\n	\n\n					\n					\n						\n															\n									\n										Google Calendar									\n								\n															\n									\n										iCalendar									\n								\n															\n									\n										Outlook 365									\n								\n															\n									\n										Outlook Live
URL:https://icfmakati.org/event/english-service-16/
ATTACH;FMTTYPE=image/png:https://icfmakati.org/wp-content/uploads/2022/10/Everlasting-Father-1.png
END:VEVENT
BEGIN:VEVENT
DTSTART;TZID=Asia/Manila:20221218T110000
DTEND;TZID=Asia/Manila:20221218T120000
DTSTAMP:20260426T122341
CREATED:20221214T165900Z
LAST-MODIFIED:20221230T170216Z
UID:7675-1671361200-1671364800@icfmakati.org
SUMMARY:Sunday School (Kids Class)
DESCRIPTION:January 22\, 2023		\n\n					\n				 @ 			\n			\n				5:30 pm			\n		\n									\n					 - 				\n			\n							\n					7:00 pm				\n			\n						 \n\n\n\n\n \n\n\n\n		\n\n\n\n\n\n	\n		\n	\n\n\n\n\n	\n		\n			\n				\n					\n						\n	\n	\n\n						\n							Add to calendar						\n						\n	\n\n					\n					\n						\n															\n									\n										Google Calendar									\n								\n															\n									\n										iCalendar									\n								\n															\n									\n										Outlook 365									\n								\n															\n									\n										Outlook Live
URL:https://icfmakati.org/event/sunday-school-kids-class-17/
ATTACH;FMTTYPE=image/png:https://icfmakati.org/wp-content/uploads/2022/10/Everlasting-Father-1.png
END:VEVENT
BEGIN:VEVENT
DTSTART;TZID=Asia/Manila:20221218T110000
DTEND;TZID=Asia/Manila:20221218T120000
DTSTAMP:20260426T122341
CREATED:20221024T131532Z
LAST-MODIFIED:20221024T131646Z
UID:5865-1671361200-1671364800@icfmakati.org
SUMMARY:Sunday School (Kids Class)
DESCRIPTION:January 22\, 2023		\n\n					\n				 @ 			\n			\n				5:30 pm			\n		\n									\n					 - 				\n			\n							\n					7:00 pm				\n			\n						 \n\n\n\n\n \n\n\n\n		\n\n\n\n\n\n	\n		\n	\n\n\n\n\n	\n		\n			\n				\n					\n						\n	\n	\n\n						\n							Add to calendar						\n						\n	\n\n					\n					\n						\n															\n									\n										Google Calendar									\n								\n															\n									\n										iCalendar									\n								\n															\n									\n										Outlook 365									\n								\n															\n									\n										Outlook Live
URL:https://icfmakati.org/event/sunday-school-kids-class-15/
END:VEVENT
BEGIN:VEVENT
DTSTART;TZID=Asia/Manila:20221218T110000
DTEND;TZID=Asia/Manila:20221218T120000
DTSTAMP:20260426T122341
CREATED:20221024T130755Z
LAST-MODIFIED:20221024T130900Z
UID:5847-1671361200-1671364800@icfmakati.org
SUMMARY:English Service
DESCRIPTION:January 22\, 2023		\n\n					\n				 @ 			\n			\n				5:30 pm			\n		\n									\n					 - 				\n			\n							\n					7:00 pm				\n			\n						 \n\n\n\n\n \n\n\n\n		\n\n\n\n\n\n	\n		\n	\n\n\n\n\n	\n		\n			\n				\n					\n						\n	\n	\n\n						\n							Add to calendar						\n						\n	\n\n					\n					\n						\n															\n									\n										Google Calendar									\n								\n															\n									\n										iCalendar									\n								\n															\n									\n										Outlook 365									\n								\n															\n									\n										Outlook Live
URL:https://icfmakati.org/event/english-service-15/
END:VEVENT
BEGIN:VEVENT
DTSTART;TZID=Asia/Manila:20221218T090000
DTEND;TZID=Asia/Manila:20221218T100000
DTSTAMP:20260426T122341
CREATED:20221214T170200Z
LAST-MODIFIED:20221230T171013Z
UID:7682-1671354000-1671357600@icfmakati.org
SUMMARY:Ibadah Pagi (Bahasa Indonesia)
DESCRIPTION:January 22\, 2023		\n\n					\n				 @ 			\n			\n				5:30 pm			\n		\n									\n					 - 				\n			\n							\n					7:00 pm				\n			\n						 \n\n\n\n\n \n\n\n\n		\n\n\n\n\n\n	\n		\n	\n\n\n\n\n	\n		\n			\n				\n					\n						\n	\n	\n\n						\n							Add to calendar						\n						\n	\n\n					\n					\n						\n															\n									\n										Google Calendar									\n								\n															\n									\n										iCalendar									\n								\n															\n									\n										Outlook 365									\n								\n															\n									\n										Outlook Live
URL:https://icfmakati.org/event/ibadah-pagi-bahasa-indonesia-15/
ATTACH;FMTTYPE=image/png:https://icfmakati.org/wp-content/uploads/2022/10/Everlasting-Father-1.png
END:VEVENT
BEGIN:VEVENT
DTSTART;TZID=Asia/Manila:20221218T090000
DTEND;TZID=Asia/Manila:20221218T100000
DTSTAMP:20260426T122341
CREATED:20221214T165300Z
LAST-MODIFIED:20221230T165945Z
UID:7665-1671354000-1671357600@icfmakati.org
SUMMARY:Sunday School (Toddler Class)
DESCRIPTION:January 22\, 2023		\n\n					\n				 @ 			\n			\n				5:30 pm			\n		\n									\n					 - 				\n			\n							\n					7:00 pm				\n			\n						 \n\n\n\n\n \n\n\n\n		\n\n\n\n\n\n	\n		\n	\n\n\n\n\n	\n		\n			\n				\n					\n						\n	\n	\n\n						\n							Add to calendar						\n						\n	\n\n					\n					\n						\n															\n									\n										Google Calendar									\n								\n															\n									\n										iCalendar									\n								\n															\n									\n										Outlook 365									\n								\n															\n									\n										Outlook Live
URL:https://icfmakati.org/event/sunday-school-toddler-class-12/
ATTACH;FMTTYPE=image/png:https://icfmakati.org/wp-content/uploads/2022/10/Everlasting-Father-1.png
END:VEVENT
BEGIN:VEVENT
DTSTART;TZID=Asia/Manila:20221218T090000
DTEND;TZID=Asia/Manila:20221218T100000
DTSTAMP:20260426T122341
CREATED:20221024T131225Z
LAST-MODIFIED:20221024T131437Z
UID:5859-1671354000-1671357600@icfmakati.org
SUMMARY:Sunday School (Toddler Class)
DESCRIPTION:January 22\, 2023		\n\n					\n				 @ 			\n			\n				5:30 pm			\n		\n									\n					 - 				\n			\n							\n					7:00 pm				\n			\n						 \n\n\n\n\n \n\n\n\n		\n\n\n\n\n\n	\n		\n	\n\n\n\n\n	\n		\n			\n				\n					\n						\n	\n	\n\n						\n							Add to calendar						\n						\n	\n\n					\n					\n						\n															\n									\n										Google Calendar									\n								\n															\n									\n										iCalendar									\n								\n															\n									\n										Outlook 365									\n								\n															\n									\n										Outlook Live
URL:https://icfmakati.org/event/sunday-school-toddler-class-10/
END:VEVENT
END:VCALENDAR